BEGIN:VCALENDAR
VERSION:2.0
BEGIN:VEVENT
TZID:Europe/Paris
STATUS:CONFIRMED
DTSTART:20251016T143000
DTEND:20251016T153000
SUMMARY:Comment sortir de mon addiction au sucre ?!
DESCRIPTION:TITRE DE LA CONFÉRENCE : Comment sortir de mon addiction au sucre ?!\n\nDATE ET HEURE DE LA CONFÉRENCE : 16/10/2025 14h30\n\nDURÉE DE LA CONFÉRENCE : 60 minutes\n\nDESCRIPTION : Vous aimez un bon dessert\, un carré de chocolat\, une petite douceur de temps en temps ?\n\nNormal ! Mais savez-vous que le sucre se cache aussi là où on ne l'attend pas… et qu'il peut devenir une véritable addiction\, avec un impact sur notre énergie\, notre mémoire et même nos articulations ?\n\nVenez partager un moment pour comprendre cette "dépendance" et repartir avec des clés concrètes afin de retrouver plus de vitalité... sans renoncer au plaisir !\n\nCliquez sur le lien suivant pour plus d'informations ou vous connecter à la conférence : http://www.happyvisio.com/conference/7656-comment-sortir-de-mon-addiction-au-sucre
X-ALT-DESC;FMTTYPE=text/html:TITRE DE LA CONFÉRENCE : Comment sortir de mon addiction au sucre ?! DATE ET HEURE DE LA CONFÉRENCE : 16/10/2025 14h30 DURÉE DE LA CONFÉRENCE : 60 minutes DESCRIPTION : Vous aimez un bon dessert\, un carré de chocolat\, une petite douceur de temps en temps ?\n\nNormal ! Mais savez-vous que le sucre se cache aussi là où on ne l'attend pas… et qu'il peut devenir une véritable addiction\, avec un impact sur notre énergie\, notre mémoire et même nos articulations ?\n\nVenez partager un moment pour comprendre cette "dépendance" et repartir avec des clés concrètes afin de retrouver plus de vitalité... sans renoncer au plaisir !\n\nCliquez sur le lien suivant pour plus d'informations ou vous connecter à la conférence : http://www.happyvisio.com/conference/7656-comment-sortir-de-mon-addiction-au-sucre
END:VEVENT
END:VCALENDAR
