BEGIN:VCALENDAR
VERSION:2.0
BEGIN:VEVENT
TZID:Europe/Paris
STATUS:CONFIRMED
DTSTART:20251014T163000
DTEND:20251014T171500
SUMMARY:Dictée du 14 octobre
DESCRIPTION:<p><b>Titre de la conférence</b> : Dictée du 14 octobre </p>
 <p><b>Date et heure de la conférence</b> : 14/10/2025 16h30</p>
 <p><b>Durée de la conférence </b>: 45 minutes</p>
 <b>Description</b> : <p><strong>Dict&eacute\;e de niveau 3/5</strong></p>\n\n<p>Redout&eacute\;e par beaucoup\, la dict&eacute\;e est en r&eacute\;alit&eacute\; une occasion id&eacute\;ale pour &eacute\;valuer son niveau en orthographe\, quel que soit son &acirc\;ge. Elle permet d&#39\;apprendre &agrave\; travers ses erreurs\, offrant ainsi une meilleure compr&eacute\;hension de la langue fran&ccedil\;aise et l&#39\;opportunit&eacute\; d&#39\;en d&eacute\;couvrir toute la richesse.</p>\n\n<p>Complexe\, exigeante\, fascinante et en constante &eacute\;volution\, la langue fran&ccedil\;aise continue de nous surprendre\, de nous d&eacute\;fier et de nous envo&ucirc\;ter.</p>\n\n<p>Rejoignez-nous pour vous tester et apprendre ensemble !</p>\n<p><a href="http://www.happyvisio.com/conference/7639-dictee-du-14-octobre">Cliquez-ici pour obtenir plus d’informations ou vous connecter à la conférence</a></p>
X-ALT-DESC;FMTTYPE=text/html:<p><b>Titre de la conférence</b> : Dictée du 14 octobre </p>
 <p><b>Date et heure de la conférence</b> : 14/10/2025 16h30</p>
 <p><b>Durée de la conférence </b>: 45 minutes</p>
 <b>Description</b> : <p><strong>Dict&eacute\;e de niveau 3/5</strong></p>\n\n<p>Redout&eacute\;e par beaucoup\, la dict&eacute\;e est en r&eacute\;alit&eacute\; une occasion id&eacute\;ale pour &eacute\;valuer son niveau en orthographe\, quel que soit son &acirc\;ge. Elle permet d&#39\;apprendre &agrave\; travers ses erreurs\, offrant ainsi une meilleure compr&eacute\;hension de la langue fran&ccedil\;aise et l&#39\;opportunit&eacute\; d&#39\;en d&eacute\;couvrir toute la richesse.</p>\n\n<p>Complexe\, exigeante\, fascinante et en constante &eacute\;volution\, la langue fran&ccedil\;aise continue de nous surprendre\, de nous d&eacute\;fier et de nous envo&ucirc\;ter.</p>\n\n<p>Rejoignez-nous pour vous tester et apprendre ensemble !</p>\n<p><a href="http://www.happyvisio.com/conference/7639-dictee-du-14-octobre">Cliquez-ici pour obtenir plus d’informations ou vous connecter à la conférence</a></p>
END:VEVENT
END:VCALENDAR
