BEGIN:VCALENDAR
VERSION:2.0
BEGIN:VEVENT
TZID:Europe/Paris
STATUS:CONFIRMED
DTSTART:20251222T143000
DTEND:20251222T153000
SUMMARY:Découverte de l'intelligence artificielle
DESCRIPTION:TITRE DE LA CONFÉRENCE : Découverte de l'intelligence artificielle\n\nDATE ET HEURE DE LA CONFÉRENCE : 22/12/2025 14h30\n\nDURÉE DE LA CONFÉRENCE : 60 minutes\n\nDESCRIPTION : Un tour d'horizon de l’intelligence artificielle pour comprendre ses usages et mieux appréhender cette évolution technologique qui fait beaucoup parler d'elle.\n\nCliquez sur le lien suivant pour plus d'informations ou vous connecter à la conférence : http://www.happyvisio.com/conference/7614-decouverte-de-l-intelligence-artificielle
X-ALT-DESC;FMTTYPE=text/html:TITRE DE LA CONFÉRENCE : Découverte de l'intelligence artificielle DATE ET HEURE DE LA CONFÉRENCE : 22/12/2025 14h30 DURÉE DE LA CONFÉRENCE : 60 minutes DESCRIPTION : Un tour d'horizon de l’intelligence artificielle pour comprendre ses usages et mieux appréhender cette évolution technologique qui fait beaucoup parler d'elle.\n\nCliquez sur le lien suivant pour plus d'informations ou vous connecter à la conférence : http://www.happyvisio.com/conference/7614-decouverte-de-l-intelligence-artificielle
END:VEVENT
END:VCALENDAR
