BEGIN:VCALENDAR
VERSION:2.0
BEGIN:VEVENT
TZID:Europe/Paris
STATUS:CONFIRMED
DTSTART:20251217T110000
DTEND:20251217T114500
SUMMARY:Atelier cuisine : les alternatives plus légères à Noël
DESCRIPTION:TITRE DE LA CONFÉRENCE : Atelier cuisine : les alternatives plus légères à Noël\n\nDATE ET HEURE DE LA CONFÉRENCE : 17/12/2025 11h00\n\nDURÉE DE LA CONFÉRENCE : 45 minutes\n\nDESCRIPTION : Dans cette conférence\, vous découvrirez des alternatives moins grasses et/ou moins sucrées qui raviront vos papilles durant les fêtes ! \n\nCliquez sur le lien suivant pour plus d'informations ou vous connecter à la conférence : http://www.happyvisio.com/conference/7604-atelier-cuisine-les-alternatives-plus-legeres-a-noel
X-ALT-DESC;FMTTYPE=text/html:TITRE DE LA CONFÉRENCE : Atelier cuisine : les alternatives plus légères à Noël DATE ET HEURE DE LA CONFÉRENCE : 17/12/2025 11h00 DURÉE DE LA CONFÉRENCE : 45 minutes DESCRIPTION : Dans cette conférence\, vous découvrirez des alternatives moins grasses et/ou moins sucrées qui raviront vos papilles durant les fêtes ! \n\nCliquez sur le lien suivant pour plus d'informations ou vous connecter à la conférence : http://www.happyvisio.com/conference/7604-atelier-cuisine-les-alternatives-plus-legeres-a-noel
END:VEVENT
END:VCALENDAR
