BEGIN:VCALENDAR
VERSION:2.0
BEGIN:VEVENT
TZID:Europe/Paris
STATUS:CONFIRMED
DTSTART:20251203T110000
DTEND:20251203T114500
SUMMARY:Petits-déjeuners et collations équilibrées
DESCRIPTION:<p><b>Titre de la conférence</b> : Petits-déjeuners et collations équilibrées </p>
 <p><b>Date et heure de la conférence</b> : 03/12/2025 11h00</p>
 <p><b>Durée de la conférence </b>: 45 minutes</p>
 <b>Description</b> : <p>Dans cette conf&eacute\;rence\, vous trouverez de nouvelles id&eacute\;es\,&nbsp\;recettes &agrave\; int&eacute\;grer et les recommandations nutritionnelles en ce qui concerne les petits d&eacute\;jeuners et collations.</p>\n\n<p>Sal&eacute\; ? Sucr&eacute\; ? ou &agrave\; IG bas ? Discernons ensemble le vrai du faux.</p>\n<p><a href="http://www.happyvisio.com/conference/7603-petits-dejeuners-et-collations-equilibrees">Cliquez-ici pour obtenir plus d’informations ou vous connecter à la conférence</a></p>
X-ALT-DESC;FMTTYPE=text/html:<p><b>Titre de la conférence</b> : Petits-déjeuners et collations équilibrées </p>
 <p><b>Date et heure de la conférence</b> : 03/12/2025 11h00</p>
 <p><b>Durée de la conférence </b>: 45 minutes</p>
 <b>Description</b> : <p>Dans cette conf&eacute\;rence\, vous trouverez de nouvelles id&eacute\;es\,&nbsp\;recettes &agrave\; int&eacute\;grer et les recommandations nutritionnelles en ce qui concerne les petits d&eacute\;jeuners et collations.</p>\n\n<p>Sal&eacute\; ? Sucr&eacute\; ? ou &agrave\; IG bas ? Discernons ensemble le vrai du faux.</p>\n<p><a href="http://www.happyvisio.com/conference/7603-petits-dejeuners-et-collations-equilibrees">Cliquez-ici pour obtenir plus d’informations ou vous connecter à la conférence</a></p>
END:VEVENT
END:VCALENDAR
