BEGIN:VCALENDAR
VERSION:2.0
BEGIN:VEVENT
TZID:Europe/Paris
STATUS:CONFIRMED
DTSTART:20251112T110000
DTEND:20251112T114500
SUMMARY:Comment lutter contre la dénutrition par l’alimentation ?
DESCRIPTION:<p><b>Titre de la conférence</b> : Comment lutter contre la dénutrition par l’alimentation ? </p>
 <p><b>Date et heure de la conférence</b> : 12/11/2025 11h00</p>
 <p><b>Durée de la conférence </b>: 45 minutes</p>
 <b>Description</b> : <p>Pr&eacute\;venir ou lutter contre la d&eacute\;nutrition avec une alimentation adapt&eacute\;e.</p>\n\n<p>Cannelle\, notre di&eacute\;t&eacute\;ticienne saura vous guider vers des conseils alimentaires et des recettes faciles.</p>\n<p><a href="http://www.happyvisio.com/conference/7602-comment-lutter-contre-la-denutrition-par-l-alimentation">Cliquez-ici pour obtenir plus d’informations ou vous connecter à la conférence</a></p>
X-ALT-DESC;FMTTYPE=text/html:<p><b>Titre de la conférence</b> : Comment lutter contre la dénutrition par l’alimentation ? </p>
 <p><b>Date et heure de la conférence</b> : 12/11/2025 11h00</p>
 <p><b>Durée de la conférence </b>: 45 minutes</p>
 <b>Description</b> : <p>Pr&eacute\;venir ou lutter contre la d&eacute\;nutrition avec une alimentation adapt&eacute\;e.</p>\n\n<p>Cannelle\, notre di&eacute\;t&eacute\;ticienne saura vous guider vers des conseils alimentaires et des recettes faciles.</p>\n<p><a href="http://www.happyvisio.com/conference/7602-comment-lutter-contre-la-denutrition-par-l-alimentation">Cliquez-ici pour obtenir plus d’informations ou vous connecter à la conférence</a></p>
END:VEVENT
END:VCALENDAR
