BEGIN:VCALENDAR
VERSION:2.0
BEGIN:VEVENT
TZID:Europe/Paris
STATUS:CONFIRMED
DTSTART:20251105T110000
DTEND:20251105T114500
SUMMARY:Alimentation et système immunitaire : comment booster notre microbiote pour l’hiver ?
DESCRIPTION:<p><b>Titre de la conférence</b> : Alimentation et système immunitaire : comment booster notre microbiote pour l’hiver ? </p>
 <p><b>Date et heure de la conférence</b> : 05/11/2025 11h00</p>
 <p><b>Durée de la conférence </b>: 45 minutes</p>
 <b>Description</b> : <p>Notre microbiote\, un petit monde nich&eacute\; &agrave\; l&rsquo\;int&eacute\;rieur de notre intestin\, mais avec de grands pouvoirs.</p>\n\n<p>Quelle alimentation serait la plus adapt&eacute\;e pour un microbiote &eacute\;quilibr&eacute\; et en quoi un microbiote &eacute\;quilibr&eacute\; renforce notre syst&egrave\;me immunitaire ?</p>\n\n<p>Cannelle\, notre di&eacute\;t&eacute\;ticienne vous saura r&eacute\;pondre &agrave\; vos questions.</p>\n<p><a href="http://www.happyvisio.com/conference/7601-alimentation-et-systeme-immunitaire-comment-booster-notre-microbiote-pour-l-hiver">Cliquez-ici pour obtenir plus d’informations ou vous connecter à la conférence</a></p>
X-ALT-DESC;FMTTYPE=text/html:<p><b>Titre de la conférence</b> : Alimentation et système immunitaire : comment booster notre microbiote pour l’hiver ? </p>
 <p><b>Date et heure de la conférence</b> : 05/11/2025 11h00</p>
 <p><b>Durée de la conférence </b>: 45 minutes</p>
 <b>Description</b> : <p>Notre microbiote\, un petit monde nich&eacute\; &agrave\; l&rsquo\;int&eacute\;rieur de notre intestin\, mais avec de grands pouvoirs.</p>\n\n<p>Quelle alimentation serait la plus adapt&eacute\;e pour un microbiote &eacute\;quilibr&eacute\; et en quoi un microbiote &eacute\;quilibr&eacute\; renforce notre syst&egrave\;me immunitaire ?</p>\n\n<p>Cannelle\, notre di&eacute\;t&eacute\;ticienne vous saura r&eacute\;pondre &agrave\; vos questions.</p>\n<p><a href="http://www.happyvisio.com/conference/7601-alimentation-et-systeme-immunitaire-comment-booster-notre-microbiote-pour-l-hiver">Cliquez-ici pour obtenir plus d’informations ou vous connecter à la conférence</a></p>
END:VEVENT
END:VCALENDAR
