BEGIN:VCALENDAR
VERSION:2.0
BEGIN:VEVENT
TZID:Europe/Paris
STATUS:CONFIRMED
DTSTART:20251029T110000
DTEND:20251029T114500
SUMMARY:Comment l’alimentation impacte notre santé mentale ?
DESCRIPTION:<p><b>Titre de la conférence</b> : Comment l’alimentation impacte notre santé mentale ? </p>
 <p><b>Date et heure de la conférence</b> : 29/10/2025 11h00</p>
 <p><b>Durée de la conférence </b>: 45 minutes</p>
 <b>Description</b> : <p>L&rsquo\;intestin\, notre deuxi&egrave\;me cerveau ou premier cerveau ?</p>\n\n<p>Un proverbe dit &laquo\; nous sommes ce que nous mangeons &raquo\; et si ce que l&rsquo\;on mangeait impactait notre sant&eacute\; mentale (d&eacute\;pression\, anxi&eacute\;t&eacute\;\, m&eacute\;moire&hellip\;) ?</p>\n\n<p>Vous y verrez plus clair avec cette conf&eacute\;rence avec Cannelle Demeyer Di&eacute\;t&eacute\;ticienne.</p>\n<p><a href="http://www.happyvisio.com/conference/7600-comment-l-alimentation-impacte-notre-sante-mentale">Cliquez-ici pour obtenir plus d’informations ou vous connecter à la conférence</a></p>
X-ALT-DESC;FMTTYPE=text/html:<p><b>Titre de la conférence</b> : Comment l’alimentation impacte notre santé mentale ? </p>
 <p><b>Date et heure de la conférence</b> : 29/10/2025 11h00</p>
 <p><b>Durée de la conférence </b>: 45 minutes</p>
 <b>Description</b> : <p>L&rsquo\;intestin\, notre deuxi&egrave\;me cerveau ou premier cerveau ?</p>\n\n<p>Un proverbe dit &laquo\; nous sommes ce que nous mangeons &raquo\; et si ce que l&rsquo\;on mangeait impactait notre sant&eacute\; mentale (d&eacute\;pression\, anxi&eacute\;t&eacute\;\, m&eacute\;moire&hellip\;) ?</p>\n\n<p>Vous y verrez plus clair avec cette conf&eacute\;rence avec Cannelle Demeyer Di&eacute\;t&eacute\;ticienne.</p>\n<p><a href="http://www.happyvisio.com/conference/7600-comment-l-alimentation-impacte-notre-sante-mentale">Cliquez-ici pour obtenir plus d’informations ou vous connecter à la conférence</a></p>
END:VEVENT
END:VCALENDAR
