BEGIN:VCALENDAR
VERSION:2.0
BEGIN:VEVENT
TZID:Europe/Paris
STATUS:CONFIRMED
DTSTART:20251008T110000
DTEND:20251008T114500
SUMMARY:Comment raviver le goût de nos plats sans sel et sans sucres raffinés ?
DESCRIPTION:<p><b>Titre de la conférence</b> : Comment raviver le goût de nos plats sans sel et sans sucres raffinés ? </p>
 <p><b>Date et heure de la conférence</b> : 08/10/2025 11h00</p>
 <p><b>Durée de la conférence </b>: 45 minutes</p>
 <b>Description</b> : <p>Notre di&eacute\;t&eacute\;ticienne Cannelle vous donnera toutes ses astuces pour une alimentation r&eacute\;duite en sel et sucres (sans &eacute\;dulcorants).</p>\n\n<p>Vous partirez avec des recettes faciles et &eacute\;quilibr&eacute\;es &agrave\; confectionner &agrave\; la maison.</p>\n<p><a href="http://www.happyvisio.com/conference/7599-comment-raviver-le-gout-de-nos-plats-sans-sel-et-sans-sucres-raffines">Cliquez-ici pour obtenir plus d’informations ou vous connecter à la conférence</a></p>
X-ALT-DESC;FMTTYPE=text/html:<p><b>Titre de la conférence</b> : Comment raviver le goût de nos plats sans sel et sans sucres raffinés ? </p>
 <p><b>Date et heure de la conférence</b> : 08/10/2025 11h00</p>
 <p><b>Durée de la conférence </b>: 45 minutes</p>
 <b>Description</b> : <p>Notre di&eacute\;t&eacute\;ticienne Cannelle vous donnera toutes ses astuces pour une alimentation r&eacute\;duite en sel et sucres (sans &eacute\;dulcorants).</p>\n\n<p>Vous partirez avec des recettes faciles et &eacute\;quilibr&eacute\;es &agrave\; confectionner &agrave\; la maison.</p>\n<p><a href="http://www.happyvisio.com/conference/7599-comment-raviver-le-gout-de-nos-plats-sans-sel-et-sans-sucres-raffines">Cliquez-ici pour obtenir plus d’informations ou vous connecter à la conférence</a></p>
END:VEVENT
END:VCALENDAR
