BEGIN:VCALENDAR
VERSION:2.0
BEGIN:VEVENT
TZID:Europe/Paris
STATUS:CONFIRMED
DTSTART:20251009T140000
DTEND:20251009T153000
SUMMARY:Notre engagement, une richesse
DESCRIPTION:<p><b>Titre de la conférence</b> : Notre engagement, une richesse </p>
 <p><b>Date et heure de la conférence</b> : 09/10/2025 14h00</p>
 <p><b>Durée de la conférence </b>: 90 minutes</p>
 <b>Description</b> : <p style=\"text-align:justify\">La retraite n&rsquo\;est pas une fin\, mais une nouvelle &eacute\;tape riche de possibilit&eacute\;s. Lib&eacute\;r&eacute\;s des contraintes professionnelles\, nous avons le temps et l&rsquo\;exp&eacute\;rience pour nous engager pleinement.<br />\n<br />\nS&#39\;engager dans le b&eacute\;n&eacute\;volat\, dans une association\, ou donner son temps aux autres\, permet de transmettre\, de cr&eacute\;er du lien et de rester acteur de la soci&eacute\;t&eacute\;. Cet engagement nourrit autant celui qui donne que celui qui re&ccedil\;oit : il apporte utilit&eacute\;\, vitalit&eacute\; et sens &agrave\; la vie. Vieillir devient alors une chance\, une richesse &agrave\; partager. Cette conf&eacute\;rence invite &agrave\; red&eacute\;couvrir la valeur irrempla&ccedil\;able de l&rsquo\;engagement &agrave\; l&rsquo\;&acirc\;ge de la retraite.</p>\n<p><a href="http://www.happyvisio.com/conference/7592-notre-engagement-une-richesse">Cliquez-ici pour obtenir plus d’informations ou vous connecter à la conférence</a></p>
X-ALT-DESC;FMTTYPE=text/html:<p><b>Titre de la conférence</b> : Notre engagement, une richesse </p>
 <p><b>Date et heure de la conférence</b> : 09/10/2025 14h00</p>
 <p><b>Durée de la conférence </b>: 90 minutes</p>
 <b>Description</b> : <p style=\"text-align:justify\">La retraite n&rsquo\;est pas une fin\, mais une nouvelle &eacute\;tape riche de possibilit&eacute\;s. Lib&eacute\;r&eacute\;s des contraintes professionnelles\, nous avons le temps et l&rsquo\;exp&eacute\;rience pour nous engager pleinement.<br />\n<br />\nS&#39\;engager dans le b&eacute\;n&eacute\;volat\, dans une association\, ou donner son temps aux autres\, permet de transmettre\, de cr&eacute\;er du lien et de rester acteur de la soci&eacute\;t&eacute\;. Cet engagement nourrit autant celui qui donne que celui qui re&ccedil\;oit : il apporte utilit&eacute\;\, vitalit&eacute\; et sens &agrave\; la vie. Vieillir devient alors une chance\, une richesse &agrave\; partager. Cette conf&eacute\;rence invite &agrave\; red&eacute\;couvrir la valeur irrempla&ccedil\;able de l&rsquo\;engagement &agrave\; l&rsquo\;&acirc\;ge de la retraite.</p>\n<p><a href="http://www.happyvisio.com/conference/7592-notre-engagement-une-richesse">Cliquez-ici pour obtenir plus d’informations ou vous connecter à la conférence</a></p>
END:VEVENT
END:VCALENDAR
