BEGIN:VCALENDAR
VERSION:2.0
BEGIN:VEVENT
TZID:Europe/Paris
STATUS:CONFIRMED
DTSTART:20251028T143000
DTEND:20251028T153000
SUMMARY:Comprendre l'anxiété et la soulager avec la sophrologie
DESCRIPTION:<p><b>Titre de la conférence</b> : Comprendre l'anxiété et la soulager avec la sophrologie </p>
 <p><b>Date et heure de la conférence</b> : 28/10/2025 14h30</p>
 <p><b>Durée de la conférence </b>: 60 minutes</p>
 <b>Description</b> : <p>Stress\, anxi&eacute\;t&eacute\;\, surcharge mentale ?</p>\n\n<p>Et si la sophrologie pouvait vous aider &agrave\; souffler un peu ?</p>\n\n<p>L&#39\;anxi&eacute\;t&eacute\; touche de nombreuses personnes et peut impacter profond&eacute\;ment le quotidien. Nous vous invitons &agrave\; une rencontre en ligne avec Agn&egrave\;s BRUNELET Sophrologue professionnelle\, autour de ce th&egrave\;me essentiel.</p>\n\n<p>Cette conf&eacute\;rence vous propose de mieux comprendre la diff&eacute\;rence entre stress\, anxi&eacute\;t&eacute\; et troubles anxieux\, tout en d&eacute\;couvrant comment la sophrologie peut devenir un outil pr&eacute\;cieux pour apaiser les tensions\, r&eacute\;guler les &eacute\;motions et retrouver un &eacute\;quilibre int&eacute\;rieur.</p>\n\n<p>Un moment pour apprendre\, respirer... et repartir avec des outils concrets.</p>\n\n<p>Un temps de pratique guid&eacute\;e vous sera propos&eacute\;.&nbsp\;</p>\n<p><a href="http://www.happyvisio.com/conference/7589-comprendre-l-anxiete-et-la-soulager-avec-la-sophrologie">Cliquez-ici pour obtenir plus d’informations ou vous connecter à la conférence</a></p>
X-ALT-DESC;FMTTYPE=text/html:<p><b>Titre de la conférence</b> : Comprendre l'anxiété et la soulager avec la sophrologie </p>
 <p><b>Date et heure de la conférence</b> : 28/10/2025 14h30</p>
 <p><b>Durée de la conférence </b>: 60 minutes</p>
 <b>Description</b> : <p>Stress\, anxi&eacute\;t&eacute\;\, surcharge mentale ?</p>\n\n<p>Et si la sophrologie pouvait vous aider &agrave\; souffler un peu ?</p>\n\n<p>L&#39\;anxi&eacute\;t&eacute\; touche de nombreuses personnes et peut impacter profond&eacute\;ment le quotidien. Nous vous invitons &agrave\; une rencontre en ligne avec Agn&egrave\;s BRUNELET Sophrologue professionnelle\, autour de ce th&egrave\;me essentiel.</p>\n\n<p>Cette conf&eacute\;rence vous propose de mieux comprendre la diff&eacute\;rence entre stress\, anxi&eacute\;t&eacute\; et troubles anxieux\, tout en d&eacute\;couvrant comment la sophrologie peut devenir un outil pr&eacute\;cieux pour apaiser les tensions\, r&eacute\;guler les &eacute\;motions et retrouver un &eacute\;quilibre int&eacute\;rieur.</p>\n\n<p>Un moment pour apprendre\, respirer... et repartir avec des outils concrets.</p>\n\n<p>Un temps de pratique guid&eacute\;e vous sera propos&eacute\;.&nbsp\;</p>\n<p><a href="http://www.happyvisio.com/conference/7589-comprendre-l-anxiete-et-la-soulager-avec-la-sophrologie">Cliquez-ici pour obtenir plus d’informations ou vous connecter à la conférence</a></p>
END:VEVENT
END:VCALENDAR
