BEGIN:VCALENDAR
VERSION:2.0
BEGIN:VEVENT
TZID:Europe/Paris
STATUS:CONFIRMED
DTSTART:20260226T153000
DTEND:20260226T163000
SUMMARY:Droit des aidants : ce qu'il faut savoir
DESCRIPTION:<p><b>Titre de la conférence</b> : Droit des aidants : ce qu'il faut savoir </p>
 <p><b>Date et heure de la conférence</b> : 26/02/2026 15h30</p>
 <p><b>Durée de la conférence </b>: 60 minutes</p>
 <b>Description</b> : <p>...</p>\n<p><a href="http://www.happyvisio.com/conference/7581-droit-des-aidants-ce-qu-il-faut-savoir">Cliquez-ici pour obtenir plus d’informations ou vous connecter à la conférence</a></p>
X-ALT-DESC;FMTTYPE=text/html:<p><b>Titre de la conférence</b> : Droit des aidants : ce qu'il faut savoir </p>
 <p><b>Date et heure de la conférence</b> : 26/02/2026 15h30</p>
 <p><b>Durée de la conférence </b>: 60 minutes</p>
 <b>Description</b> : <p>...</p>\n<p><a href="http://www.happyvisio.com/conference/7581-droit-des-aidants-ce-qu-il-faut-savoir">Cliquez-ici pour obtenir plus d’informations ou vous connecter à la conférence</a></p>
END:VEVENT
END:VCALENDAR
