BEGIN:VCALENDAR
VERSION:2.0
BEGIN:VEVENT
TZID:Europe/Paris
STATUS:CONFIRMED
DTSTART:20251010T110000
DTEND:20251010T120000
SUMMARY:Le Quiz de Culture Générale
DESCRIPTION:TITRE DE LA CONFÉRENCE : Le Quiz de Culture Générale\n\nDATE ET HEURE DE LA CONFÉRENCE : 10/10/2025 11h00\n\nDURÉE DE LA CONFÉRENCE : 60 minutes\n\nDESCRIPTION : Participez à ce quiz de culture générale à l'occasion de la Semaine Bleue\, muni de votre téléphone portable pour répondre aux questions et marquer des points. Un moment convivial plein de bonne humeur\, avec un zest de compétition . \n\nAlors\, serez-vous le nouveau (ou nouvelle) champion(ne) de la culture générale d'HappyVisio ?\n\nComment participer au quiz ?\nAprès avoir rejoint la salle de visioconférence\, un QR code vous sera proposé au début de la séance\, pour que vous le scanniez. Vous pourrez ensuite donner vos réponses sur votre téléphone\, et marquer des points.  Prévoyez donc d'être muni(e) de votre téléphone portable (smartphone) qui possède une application pour lire les QR codes.\n\nRassurez-vous\, si vous n'avez pas de téléphone portable ou si votre téléphone portable ne vous permet pas d'aller sur internet\, la participation au quiz sera quand même possible avec votre ordinateur. Les indications vous seront données par l'animateur au début de la conférence.\n\nCliquez sur le lien suivant pour plus d'informations ou vous connecter à la conférence : http://www.happyvisio.com/conference/7571-le-quiz-de-culture-generale
X-ALT-DESC;FMTTYPE=text/html:TITRE DE LA CONFÉRENCE : Le Quiz de Culture Générale DATE ET HEURE DE LA CONFÉRENCE : 10/10/2025 11h00 DURÉE DE LA CONFÉRENCE : 60 minutes DESCRIPTION : Participez à ce quiz de culture générale à l'occasion de la Semaine Bleue\, muni de votre téléphone portable pour répondre aux questions et marquer des points. Un moment convivial plein de bonne humeur\, avec un zest de compétition . \n\nAlors\, serez-vous le nouveau (ou nouvelle) champion(ne) de la culture générale d'HappyVisio ?\n\nComment participer au quiz ?\nAprès avoir rejoint la salle de visioconférence\, un QR code vous sera proposé au début de la séance\, pour que vous le scanniez. Vous pourrez ensuite donner vos réponses sur votre téléphone\, et marquer des points.  Prévoyez donc d'être muni(e) de votre téléphone portable (smartphone) qui possède une application pour lire les QR codes.\n\nRassurez-vous\, si vous n'avez pas de téléphone portable ou si votre téléphone portable ne vous permet pas d'aller sur internet\, la participation au quiz sera quand même possible avec votre ordinateur. Les indications vous seront données par l'animateur au début de la conférence.\n\nCliquez sur le lien suivant pour plus d'informations ou vous connecter à la conférence : http://www.happyvisio.com/conference/7571-le-quiz-de-culture-generale
END:VEVENT
END:VCALENDAR
