BEGIN:VCALENDAR
VERSION:2.0
BEGIN:VEVENT
TZID:Europe/Paris
STATUS:CONFIRMED
DTSTART:20251013T143000
DTEND:20251013T153000
SUMMARY:Mieux connaître les menaces pour adopter les cyber réflexes
DESCRIPTION:<p><b>Titre de la conférence</b> : Mieux connaître les menaces pour adopter les cyber réflexes </p>
 <p><b>Date et heure de la conférence</b> : 13/10/2025 14h30</p>
 <p><b>Durée de la conférence </b>: 60 minutes</p>
 <b>Description</b> : <p>La cybers&eacute\;curit&eacute\;\, les bons r&eacute\;flexes face aux CyberArnaques !</p>\n\n<p>Un webinaire interactif et accessible &agrave\; tous\, pour une s&eacute\;curit&eacute\; num&eacute\;rique renforc&eacute\;e au quotidien.</p>\n<p><a href="http://www.happyvisio.com/conference/7564-mieux-connaitre-les-menaces-pour-adopter-les-cyber-reflexes">Cliquez-ici pour obtenir plus d’informations ou vous connecter à la conférence</a></p>
X-ALT-DESC;FMTTYPE=text/html:<p><b>Titre de la conférence</b> : Mieux connaître les menaces pour adopter les cyber réflexes </p>
 <p><b>Date et heure de la conférence</b> : 13/10/2025 14h30</p>
 <p><b>Durée de la conférence </b>: 60 minutes</p>
 <b>Description</b> : <p>La cybers&eacute\;curit&eacute\;\, les bons r&eacute\;flexes face aux CyberArnaques !</p>\n\n<p>Un webinaire interactif et accessible &agrave\; tous\, pour une s&eacute\;curit&eacute\; num&eacute\;rique renforc&eacute\;e au quotidien.</p>\n<p><a href="http://www.happyvisio.com/conference/7564-mieux-connaitre-les-menaces-pour-adopter-les-cyber-reflexes">Cliquez-ici pour obtenir plus d’informations ou vous connecter à la conférence</a></p>
END:VEVENT
END:VCALENDAR
