BEGIN:VCALENDAR
VERSION:2.0
BEGIN:VEVENT
TZID:Europe/Paris
STATUS:CONFIRMED
DTSTART:20251104T130000
DTEND:20251104T140000
SUMMARY:En amour on ne compte pas. Vraiment ?
DESCRIPTION:TITRE DE LA CONFÉRENCE : En amour on ne compte pas. Vraiment ?\n\nDATE ET HEURE DE LA CONFÉRENCE : 04/11/2025 13h00\n\nDURÉE DE LA CONFÉRENCE : 60 minutes\n\nDESCRIPTION : Quand les sentiments rencontrent les finances\, les équilibres peuvent vite vaciller.\n\nExplorez sans tabou les liens entre argent\, couple et fragilités financières\, pour mieux comprendre\, mieux gérer… et peut-être mieux aimer.\n\nCliquez sur le lien suivant pour plus d'informations ou vous connecter à la conférence : http://www.happyvisio.com/conference/7557-en-amour-on-ne-compte-pas-vraiment
X-ALT-DESC;FMTTYPE=text/html:TITRE DE LA CONFÉRENCE : En amour on ne compte pas. Vraiment ? DATE ET HEURE DE LA CONFÉRENCE : 04/11/2025 13h00 DURÉE DE LA CONFÉRENCE : 60 minutes DESCRIPTION : Quand les sentiments rencontrent les finances\, les équilibres peuvent vite vaciller.\n\nExplorez sans tabou les liens entre argent\, couple et fragilités financières\, pour mieux comprendre\, mieux gérer… et peut-être mieux aimer.\n\nCliquez sur le lien suivant pour plus d'informations ou vous connecter à la conférence : http://www.happyvisio.com/conference/7557-en-amour-on-ne-compte-pas-vraiment
END:VEVENT
END:VCALENDAR
