BEGIN:VCALENDAR
VERSION:2.0
BEGIN:VEVENT
TZID:Europe/Paris
STATUS:CONFIRMED
DTSTART:20251014T130000
DTEND:20251014T140000
SUMMARY:Le cancer du sein, et après ? Parce que le plus dur ne commence pas toujours avec le diagnostic
DESCRIPTION:<p><b>Titre de la conférence</b> : Le cancer du sein, et après ? Parce que le plus dur ne commence pas toujours avec le diagnostic </p>
 <p><b>Date et heure de la conférence</b> : 14/10/2025 13h00</p>
 <p><b>Durée de la conférence </b>: 60 minutes</p>
 <b>Description</b> : <p>Cancer du sein. Deux mots qui bouleversent une vie. Pourtant\, au-del&agrave\; des traitements et des annonces m&eacute\;dicales\, il y a une r&eacute\;alit&eacute\; plus silencieuse : le retour &agrave\; soi\, au travail\, &agrave\; la vie &laquo\; d&rsquo\;avant &raquo\;&hellip\; qui ne sera plus tout &agrave\; fait la m&ecirc\;me.</p>\n\n<p>Dans ce webinaire anim&eacute\; par El&eacute\;onore Le Bars\, avec le t&eacute\;moignage d&rsquo\;une femme en r&eacute\;mission\, nous parlerons reconstruction\, r&eacute\;silience et pr&eacute\;vention. Un moment fort\, intime et collectif\, pour &eacute\;couter\, comprendre\, pr&eacute\;venir&hellip\; et soutenir\, au travail comme dans la vie.</p>\n\n<p><strong>Retrouvez ci-dessous une courte vid&eacute\;o de sensibilisation et pr&eacute\;sentation des gestes d&#39\;autopalpation pour pr&eacute\;venir le cancer du sein :</strong></p>\n\n<p><iframe id=\"odysee-iframe\" src=\"https://odysee.com/%24/embed/%40HappyVisio%3A7%2FVideo-Autopalpation-Sans-Logos%3A8?r=ARZDNU2qFpgEv454Dwr2695uCVc2fAyo&amp\;signature=20c0145311ab2e354a5bd7b370ee7489aa594fc2a8588fd814c507c4e785a6b57decea8639d2d2423cb96e96dac4c2250703398a8e85e659e7ce37df2836e9c6&amp\;signature_ts=1760448763\" style=\"width:100%\; aspect-ratio:16 / 9\;\"></iframe></p>\n\n<p>Pour t&eacute\;l&eacute\;charger la vid&eacute\;o\, <a href=\"https://drive.google.com/uc?export=download&amp\;id=1M8TsiS0MaXRxC6xWjHZWMgCO90pM4c_v\">cliquez-ici</a></p>\n<p><a href="http://www.happyvisio.com/conference/7556-le-cancer-du-sein-et-apres-parce-que-le-plus-dur-ne-commence-pas-toujours-avec-le-diagnostic">Cliquez-ici pour obtenir plus d’informations ou vous connecter à la conférence</a></p>
X-ALT-DESC;FMTTYPE=text/html:<p><b>Titre de la conférence</b> : Le cancer du sein, et après ? Parce que le plus dur ne commence pas toujours avec le diagnostic </p>
 <p><b>Date et heure de la conférence</b> : 14/10/2025 13h00</p>
 <p><b>Durée de la conférence </b>: 60 minutes</p>
 <b>Description</b> : <p>Cancer du sein. Deux mots qui bouleversent une vie. Pourtant\, au-del&agrave\; des traitements et des annonces m&eacute\;dicales\, il y a une r&eacute\;alit&eacute\; plus silencieuse : le retour &agrave\; soi\, au travail\, &agrave\; la vie &laquo\; d&rsquo\;avant &raquo\;&hellip\; qui ne sera plus tout &agrave\; fait la m&ecirc\;me.</p>\n\n<p>Dans ce webinaire anim&eacute\; par El&eacute\;onore Le Bars\, avec le t&eacute\;moignage d&rsquo\;une femme en r&eacute\;mission\, nous parlerons reconstruction\, r&eacute\;silience et pr&eacute\;vention. Un moment fort\, intime et collectif\, pour &eacute\;couter\, comprendre\, pr&eacute\;venir&hellip\; et soutenir\, au travail comme dans la vie.</p>\n\n<p><strong>Retrouvez ci-dessous une courte vid&eacute\;o de sensibilisation et pr&eacute\;sentation des gestes d&#39\;autopalpation pour pr&eacute\;venir le cancer du sein :</strong></p>\n\n<p><iframe id=\"odysee-iframe\" src=\"https://odysee.com/%24/embed/%40HappyVisio%3A7%2FVideo-Autopalpation-Sans-Logos%3A8?r=ARZDNU2qFpgEv454Dwr2695uCVc2fAyo&amp\;signature=20c0145311ab2e354a5bd7b370ee7489aa594fc2a8588fd814c507c4e785a6b57decea8639d2d2423cb96e96dac4c2250703398a8e85e659e7ce37df2836e9c6&amp\;signature_ts=1760448763\" style=\"width:100%\; aspect-ratio:16 / 9\;\"></iframe></p>\n\n<p>Pour t&eacute\;l&eacute\;charger la vid&eacute\;o\, <a href=\"https://drive.google.com/uc?export=download&amp\;id=1M8TsiS0MaXRxC6xWjHZWMgCO90pM4c_v\">cliquez-ici</a></p>\n<p><a href="http://www.happyvisio.com/conference/7556-le-cancer-du-sein-et-apres-parce-que-le-plus-dur-ne-commence-pas-toujours-avec-le-diagnostic">Cliquez-ici pour obtenir plus d’informations ou vous connecter à la conférence</a></p>
END:VEVENT
END:VCALENDAR
