BEGIN:VCALENDAR
VERSION:2.0
BEGIN:VEVENT
TZID:Europe/Paris
STATUS:CONFIRMED
DTSTART:20251006T130000
DTEND:20251006T140000
SUMMARY:Et si on prenait soin de ceux qui prennent soin ?
DESCRIPTION:<p><b>Titre de la conférence</b> : Et si on prenait soin de ceux qui prennent soin ? </p>
 <p><b>Date et heure de la conférence</b> : 06/10/2025 13h00</p>
 <p><b>Durée de la conférence </b>: 60 minutes</p>
 <b>Description</b> : <p>Les salari&eacute\;s aidants portent une charge invisible qui impacte leur sant&eacute\;\, leur engagement et la performance de vos &eacute\;quipes.</p>\n\n<p>Et si votre entreprise devenait enfin un lieu o&ugrave\; on peut travailler sans s&#39\;oublier ?</p>\n<p><a href="http://www.happyvisio.com/conference/7555-et-si-on-prenait-soin-de-ceux-qui-prennent-soin">Cliquez-ici pour obtenir plus d’informations ou vous connecter à la conférence</a></p>
X-ALT-DESC;FMTTYPE=text/html:<p><b>Titre de la conférence</b> : Et si on prenait soin de ceux qui prennent soin ? </p>
 <p><b>Date et heure de la conférence</b> : 06/10/2025 13h00</p>
 <p><b>Durée de la conférence </b>: 60 minutes</p>
 <b>Description</b> : <p>Les salari&eacute\;s aidants portent une charge invisible qui impacte leur sant&eacute\;\, leur engagement et la performance de vos &eacute\;quipes.</p>\n\n<p>Et si votre entreprise devenait enfin un lieu o&ugrave\; on peut travailler sans s&#39\;oublier ?</p>\n<p><a href="http://www.happyvisio.com/conference/7555-et-si-on-prenait-soin-de-ceux-qui-prennent-soin">Cliquez-ici pour obtenir plus d’informations ou vous connecter à la conférence</a></p>
END:VEVENT
END:VCALENDAR
