BEGIN:VCALENDAR
VERSION:2.0
BEGIN:VEVENT
TZID:Europe/Paris
STATUS:CONFIRMED
DTSTART:20251126T143000
DTEND:20251126T153000
SUMMARY:L'Alsace : histoire, culture et paysages d'une région atypique
DESCRIPTION:TITRE DE LA CONFÉRENCE : L'Alsace : histoire, culture et paysages d'une région atypique\n\nDATE ET HEURE DE LA CONFÉRENCE : 26/11/2025 14h30\n\nDURÉE DE LA CONFÉRENCE : 60 minutes\n\nDESCRIPTION : L'Alsace a une culture riche et variée\, très différente de celle des autres régions françaises.\n\nCette conférence aborde dans un premier temps l'histoire de l'Alsace pour comprendre cette double identité franco-allemande de la région.\n\nEnsuite\, la seconde partie est consacrée aux plus beaux lieux et monuments de la région. La conférence se termine par la culture régionale : gastronomie\, musique\, habit...\n\nCliquez sur le lien suivant pour plus d'informations ou vous connecter à la conférence : http://www.happyvisio.com/conference/7534-l-alsace-histoire-culture-et-paysages-d-une-region-atypique
X-ALT-DESC;FMTTYPE=text/html:TITRE DE LA CONFÉRENCE : L'Alsace : histoire, culture et paysages d'une région atypique DATE ET HEURE DE LA CONFÉRENCE : 26/11/2025 14h30 DURÉE DE LA CONFÉRENCE : 60 minutes DESCRIPTION : L'Alsace a une culture riche et variée\, très différente de celle des autres régions françaises.\n\nCette conférence aborde dans un premier temps l'histoire de l'Alsace pour comprendre cette double identité franco-allemande de la région.\n\nEnsuite\, la seconde partie est consacrée aux plus beaux lieux et monuments de la région. La conférence se termine par la culture régionale : gastronomie\, musique\, habit...\n\nCliquez sur le lien suivant pour plus d'informations ou vous connecter à la conférence : http://www.happyvisio.com/conference/7534-l-alsace-histoire-culture-et-paysages-d-une-region-atypique
END:VEVENT
END:VCALENDAR
