BEGIN:VCALENDAR
VERSION:2.0
BEGIN:VEVENT
TZID:Europe/Paris
STATUS:CONFIRMED
DTSTART:20251112T143000
DTEND:20251112T153000
SUMMARY:Corneille
DESCRIPTION:<p><b>Titre de la conférence</b> : Corneille </p>
 <p><b>Date et heure de la conférence</b> : 12/11/2025 14h30</p>
 <p><b>Durée de la conférence </b>: 60 minutes</p>
 <b>Description</b> : <p>Cette conf&eacute\;rence fait le tour des pi&egrave\;ces &eacute\;crites par Corneille\, mais revient aussi sur sa vie\, ses d&eacute\;buts dans le monde de la dramaturgie\, ses relations artistiques et personnelles\, ses influences\, sa rivalit&eacute\; avec Racine...</p>\n<p><a href="http://www.happyvisio.com/conference/7533-corneille">Cliquez-ici pour obtenir plus d’informations ou vous connecter à la conférence</a></p>
X-ALT-DESC;FMTTYPE=text/html:<p><b>Titre de la conférence</b> : Corneille </p>
 <p><b>Date et heure de la conférence</b> : 12/11/2025 14h30</p>
 <p><b>Durée de la conférence </b>: 60 minutes</p>
 <b>Description</b> : <p>Cette conf&eacute\;rence fait le tour des pi&egrave\;ces &eacute\;crites par Corneille\, mais revient aussi sur sa vie\, ses d&eacute\;buts dans le monde de la dramaturgie\, ses relations artistiques et personnelles\, ses influences\, sa rivalit&eacute\; avec Racine...</p>\n<p><a href="http://www.happyvisio.com/conference/7533-corneille">Cliquez-ici pour obtenir plus d’informations ou vous connecter à la conférence</a></p>
END:VEVENT
END:VCALENDAR
