BEGIN:VCALENDAR
VERSION:2.0
BEGIN:VEVENT
TZID:Europe/Paris
STATUS:CONFIRMED
DTSTART:20251001T143000
DTEND:20251001T153000
SUMMARY:Océanie : entre arts, culture et traditions
DESCRIPTION:<p><b>Titre de la conférence</b> : Océanie : entre arts, culture et traditions </p>
 <p><b>Date et heure de la conférence</b> : 01/10/2025 14h30</p>
 <p><b>Durée de la conférence </b>: 60 minutes</p>
 <b>Description</b> : <p>Les arts d&#39\;Oc&eacute\;anie sont peu connus du grand public en France : ce continent singulier est pourtant riche d&#39\;une des plus grandes diversit&eacute\;s culturelles du monde.</p>\n\n<p>Cette conf&eacute\;rence propose d&#39\;explorer les facettes principales des cultures insulaires dans le Pacifique.</p>\n<p><a href="http://www.happyvisio.com/conference/7532-oceanie-entre-arts-culture-et-traditions">Cliquez-ici pour obtenir plus d’informations ou vous connecter à la conférence</a></p>
X-ALT-DESC;FMTTYPE=text/html:<p><b>Titre de la conférence</b> : Océanie : entre arts, culture et traditions </p>
 <p><b>Date et heure de la conférence</b> : 01/10/2025 14h30</p>
 <p><b>Durée de la conférence </b>: 60 minutes</p>
 <b>Description</b> : <p>Les arts d&#39\;Oc&eacute\;anie sont peu connus du grand public en France : ce continent singulier est pourtant riche d&#39\;une des plus grandes diversit&eacute\;s culturelles du monde.</p>\n\n<p>Cette conf&eacute\;rence propose d&#39\;explorer les facettes principales des cultures insulaires dans le Pacifique.</p>\n<p><a href="http://www.happyvisio.com/conference/7532-oceanie-entre-arts-culture-et-traditions">Cliquez-ici pour obtenir plus d’informations ou vous connecter à la conférence</a></p>
END:VEVENT
END:VCALENDAR
