BEGIN:VCALENDAR
VERSION:2.0
BEGIN:VEVENT
TZID:Europe/Paris
STATUS:CONFIRMED
DTSTART:20251008T110000
DTEND:20251008T123000
SUMMARY:Et si on apprenait à porter les premiers secours autrement ? Parlons Santé Mentale
DESCRIPTION:TITRE DE LA CONFÉRENCE : Et si on apprenait à porter les premiers secours autrement ? Parlons Santé Mentale\n\nDATE ET HEURE DE LA CONFÉRENCE : 08/10/2025 11h00\n\nDURÉE DE LA CONFÉRENCE : 90 minutes\n\nDESCRIPTION : Vous connaissez la santé physique mais la santé mentale\, est-ce que vous la connaissez aussi bien ? \n\nEn France\, un programme ambitieux de développement du secourisme en santé mentale est mis en œuvre depuis 2019.\n\nL’objectif de cette conférence est de vous faire découvrir les Premiers Secours en Santé Mentale\, avec curiosité et bienveillance avec une formatrice agréée. \nEt si votre expérience faisait la différence pour aider les personnes en difficulté ?\n\n \n\n \n\nCliquez sur le lien suivant pour plus d'informations ou vous connecter à la conférence : http://www.happyvisio.com/conference/7526-et-si-on-apprenait-a-porter-les-premiers-secours-autrement-parlons-sante-mentale
X-ALT-DESC;FMTTYPE=text/html:TITRE DE LA CONFÉRENCE : Et si on apprenait à porter les premiers secours autrement ? Parlons Santé Mentale DATE ET HEURE DE LA CONFÉRENCE : 08/10/2025 11h00 DURÉE DE LA CONFÉRENCE : 90 minutes DESCRIPTION : Vous connaissez la santé physique mais la santé mentale\, est-ce que vous la connaissez aussi bien ? \n\nEn France\, un programme ambitieux de développement du secourisme en santé mentale est mis en œuvre depuis 2019.\n\nL’objectif de cette conférence est de vous faire découvrir les Premiers Secours en Santé Mentale\, avec curiosité et bienveillance avec une formatrice agréée. \nEt si votre expérience faisait la différence pour aider les personnes en difficulté ?\n\n \n\n \n\nCliquez sur le lien suivant pour plus d'informations ou vous connecter à la conférence : http://www.happyvisio.com/conference/7526-et-si-on-apprenait-a-porter-les-premiers-secours-autrement-parlons-sante-mentale
END:VEVENT
END:VCALENDAR
