BEGIN:VCALENDAR
VERSION:2.0
BEGIN:VEVENT
TZID:Europe/Paris
STATUS:CONFIRMED
DTSTART:20251219T110000
DTEND:20251219T120000
SUMMARY:Challenge des résidences 6/15
DESCRIPTION:TITRE DE LA CONFÉRENCE : Challenge des résidences 6/15\n\nDATE ET HEURE DE LA CONFÉRENCE : 19/12/2025 11h00\n\nDURÉE DE LA CONFÉRENCE : 60 minutes\n\nDESCRIPTION : Bienvenue au challenge Inter-Résidences proposé par HappyVisio et animé par Mylène Laboyrie\, dans le cadre du dispositif Innovons en Résidence Autonomie.\n\nCe challenge consiste en une série de 15 rendez-vous qui donnera la possibilité aux 6 résidences participantes\, de se retrouver en visioconférence autour de questions\, énigmes et défis. Le tout dans un esprit de convivialité\, de partage et de bienveillance.\n\nAlors\, qui sera la résidence qui remportera le challenge parmi les résidences participantes ?\n \n\n \n\nCliquez sur le lien suivant pour plus d'informations ou vous connecter à la conférence : http://www.happyvisio.com/conference/7487-challenge-des-residences-6-15
X-ALT-DESC;FMTTYPE=text/html:TITRE DE LA CONFÉRENCE : Challenge des résidences 6/15 DATE ET HEURE DE LA CONFÉRENCE : 19/12/2025 11h00 DURÉE DE LA CONFÉRENCE : 60 minutes DESCRIPTION : Bienvenue au challenge Inter-Résidences proposé par HappyVisio et animé par Mylène Laboyrie\, dans le cadre du dispositif Innovons en Résidence Autonomie.\n\nCe challenge consiste en une série de 15 rendez-vous qui donnera la possibilité aux 6 résidences participantes\, de se retrouver en visioconférence autour de questions\, énigmes et défis. Le tout dans un esprit de convivialité\, de partage et de bienveillance.\n\nAlors\, qui sera la résidence qui remportera le challenge parmi les résidences participantes ?\n \n\n \n\nCliquez sur le lien suivant pour plus d'informations ou vous connecter à la conférence : http://www.happyvisio.com/conference/7487-challenge-des-residences-6-15
END:VEVENT
END:VCALENDAR
