BEGIN:VCALENDAR
VERSION:2.0
BEGIN:VEVENT
TZID:Europe/Paris
STATUS:CONFIRMED
DTSTART:20251127T150000
DTEND:20251127T160000
SUMMARY:Challenge des résidences 5/15
DESCRIPTION:<p><b>Titre de la conférence</b> : Challenge des résidences 5/15 </p>
 <p><b>Date et heure de la conférence</b> : 27/11/2025 15h00</p>
 <p><b>Durée de la conférence </b>: 60 minutes</p>
 <b>Description</b> : <p style=\"text-align:justify\">Bienvenue au challenge Inter-R&eacute\;sidences propos&eacute\; par HappyVisio et anim&eacute\; par Myl&egrave\;ne Laboyrie\, dans le cadre du dispositif Innovons en R&eacute\;sidence Autonomie.<br />\n<br />\nCe challenge consiste en une s&eacute\;rie de 15 rendez-vous qui donnera la possibilit&eacute\; aux 6 r&eacute\;sidences participantes\, de se retrouver en visioconf&eacute\;rence autour de questions\, &eacute\;nigmes et d&eacute\;fis. Le tout dans un esprit de convivialit&eacute\;\, de partage et de bienveillance.<br />\n<br />\nAlors\, qui sera la r&eacute\;sidence qui remportera le challenge parmi les r&eacute\;sidences participantes ?<br />\n&nbsp\;</p>\n\n<p>&nbsp\;</p>\n<p><a href="http://www.happyvisio.com/conference/7486-challenge-des-residences-5-15">Cliquez-ici pour obtenir plus d’informations ou vous connecter à la conférence</a></p>
X-ALT-DESC;FMTTYPE=text/html:<p><b>Titre de la conférence</b> : Challenge des résidences 5/15 </p>
 <p><b>Date et heure de la conférence</b> : 27/11/2025 15h00</p>
 <p><b>Durée de la conférence </b>: 60 minutes</p>
 <b>Description</b> : <p style=\"text-align:justify\">Bienvenue au challenge Inter-R&eacute\;sidences propos&eacute\; par HappyVisio et anim&eacute\; par Myl&egrave\;ne Laboyrie\, dans le cadre du dispositif Innovons en R&eacute\;sidence Autonomie.<br />\n<br />\nCe challenge consiste en une s&eacute\;rie de 15 rendez-vous qui donnera la possibilit&eacute\; aux 6 r&eacute\;sidences participantes\, de se retrouver en visioconf&eacute\;rence autour de questions\, &eacute\;nigmes et d&eacute\;fis. Le tout dans un esprit de convivialit&eacute\;\, de partage et de bienveillance.<br />\n<br />\nAlors\, qui sera la r&eacute\;sidence qui remportera le challenge parmi les r&eacute\;sidences participantes ?<br />\n&nbsp\;</p>\n\n<p>&nbsp\;</p>\n<p><a href="http://www.happyvisio.com/conference/7486-challenge-des-residences-5-15">Cliquez-ici pour obtenir plus d’informations ou vous connecter à la conférence</a></p>
END:VEVENT
END:VCALENDAR
