BEGIN:VCALENDAR
VERSION:2.0
BEGIN:VEVENT
TZID:Europe/Paris
STATUS:CONFIRMED
DTSTART:20251023T110000
DTEND:20251023T120000
SUMMARY:Équilibre alimentaire et plaisir de manger
DESCRIPTION:<p><b>Titre de la conférence</b> : Équilibre alimentaire et plaisir de manger </p>
 <p><b>Date et heure de la conférence</b> : 23/10/2025 11h00</p>
 <p><b>Durée de la conférence </b>: 60 minutes</p>
 <b>Description</b> : <p style=\"text-align:justify\">Pour vous inscrire &agrave\; l&#39\;atelier de suite\, <a href=\"https://www.happyvisio.com/course/3731-cuisine-sante\" target=\"_blank\">cliquez ici</a>.&nbsp\;</p>\n\n<p style=\"text-align:justify\">Am&eacute\;liorer votre sant&eacute\; gr&acirc\;ce &agrave\; une meilleure composition de vos assiettes de mani&egrave\;re simple et ludique. Cette visioconf&eacute\;rence vous donnera les clefs pour &eacute\;quilibrer votre alimentation\, sans restriction ni interdit\, suivant les derni&egrave\;res recommandations du PNNS (Programme National Nutrition Sant&eacute\;). Composition de l&#39\;assiette &eacute\;quilibr&eacute\;e\, familles d&#39\;aliments\, quantit&eacute\;s recommand&eacute\;es\, id&eacute\;es re&ccedil\;ues et plaisir de manger seront abord&eacute\;s. Manger de tout\, sans se priver en apprenant &agrave\; faire les bons choix</p>\n<p><a href="http://www.happyvisio.com/conference/7475-equilibre-alimentaire-et-plaisir-de-manger">Cliquez-ici pour obtenir plus d’informations ou vous connecter à la conférence</a></p>
X-ALT-DESC;FMTTYPE=text/html:<p><b>Titre de la conférence</b> : Équilibre alimentaire et plaisir de manger </p>
 <p><b>Date et heure de la conférence</b> : 23/10/2025 11h00</p>
 <p><b>Durée de la conférence </b>: 60 minutes</p>
 <b>Description</b> : <p style=\"text-align:justify\">Pour vous inscrire &agrave\; l&#39\;atelier de suite\, <a href=\"https://www.happyvisio.com/course/3731-cuisine-sante\" target=\"_blank\">cliquez ici</a>.&nbsp\;</p>\n\n<p style=\"text-align:justify\">Am&eacute\;liorer votre sant&eacute\; gr&acirc\;ce &agrave\; une meilleure composition de vos assiettes de mani&egrave\;re simple et ludique. Cette visioconf&eacute\;rence vous donnera les clefs pour &eacute\;quilibrer votre alimentation\, sans restriction ni interdit\, suivant les derni&egrave\;res recommandations du PNNS (Programme National Nutrition Sant&eacute\;). Composition de l&#39\;assiette &eacute\;quilibr&eacute\;e\, familles d&#39\;aliments\, quantit&eacute\;s recommand&eacute\;es\, id&eacute\;es re&ccedil\;ues et plaisir de manger seront abord&eacute\;s. Manger de tout\, sans se priver en apprenant &agrave\; faire les bons choix</p>\n<p><a href="http://www.happyvisio.com/conference/7475-equilibre-alimentaire-et-plaisir-de-manger">Cliquez-ici pour obtenir plus d’informations ou vous connecter à la conférence</a></p>
END:VEVENT
END:VCALENDAR
