BEGIN:VCALENDAR
VERSION:2.0
BEGIN:VEVENT
TZID:Europe/Paris
STATUS:CONFIRMED
DTSTART:20251103T143000
DTEND:20251103T153000
SUMMARY:Découvrir autrement : YouTube, documentaires et musée
DESCRIPTION:<p><b>Titre de la conférence</b> : Découvrir autrement : YouTube, documentaires et musée </p>
 <p><b>Date et heure de la conférence</b> : 03/11/2025 14h30</p>
 <p><b>Durée de la conférence </b>: 60 minutes</p>
 <b>Description</b> : <p>Internet regorge de contenus culturels accessibles gratuitement : conf&eacute\;rences\, films documentaires\, expositions virtuelles\, visites de mus&eacute\;es&hellip\;</p>\n\n<p>&Agrave\; travers cette conf&eacute\;rence\, partez &agrave\; la d&eacute\;couverte de plateformes comme YouTube\, Arte\, ou encore des mus&eacute\;es num&eacute\;riques.</p>\n\n<p>Une autre mani&egrave\;re de voyager\, apprendre ou se divertir&hellip\; sans quitter son fauteuil.</p>\n<p><a href="http://www.happyvisio.com/conference/7471-decouvrir-autrement-youtube-documentaires-et-musee">Cliquez-ici pour obtenir plus d’informations ou vous connecter à la conférence</a></p>
X-ALT-DESC;FMTTYPE=text/html:<p><b>Titre de la conférence</b> : Découvrir autrement : YouTube, documentaires et musée </p>
 <p><b>Date et heure de la conférence</b> : 03/11/2025 14h30</p>
 <p><b>Durée de la conférence </b>: 60 minutes</p>
 <b>Description</b> : <p>Internet regorge de contenus culturels accessibles gratuitement : conf&eacute\;rences\, films documentaires\, expositions virtuelles\, visites de mus&eacute\;es&hellip\;</p>\n\n<p>&Agrave\; travers cette conf&eacute\;rence\, partez &agrave\; la d&eacute\;couverte de plateformes comme YouTube\, Arte\, ou encore des mus&eacute\;es num&eacute\;riques.</p>\n\n<p>Une autre mani&egrave\;re de voyager\, apprendre ou se divertir&hellip\; sans quitter son fauteuil.</p>\n<p><a href="http://www.happyvisio.com/conference/7471-decouvrir-autrement-youtube-documentaires-et-musee">Cliquez-ici pour obtenir plus d’informations ou vous connecter à la conférence</a></p>
END:VEVENT
END:VCALENDAR
