BEGIN:VCALENDAR
VERSION:2.0
BEGIN:VEVENT
TZID:Europe/Paris
STATUS:CONFIRMED
DTSTART:20251217T143000
DTEND:20251217T153000
SUMMARY:Marc Chagall (1887-1985), une vie de peintre, peintre de la vie
DESCRIPTION:TITRE DE LA CONFÉRENCE : Marc Chagall (1887-1985), une vie de peintre, peintre de la vie\n\nDATE ET HEURE DE LA CONFÉRENCE : 17/12/2025 14h30\n\nDURÉE DE LA CONFÉRENCE : 60 minutes\n\nDESCRIPTION : La découverte de la vie et de l’œuvre de Chagall nous est proposée en voyageant avec lui\, dans le temps\, avec et à travers sa peinture. Le parcours est à la fois chronologique et artistique\, depuis sa naissance en 1897 à Vitebsk en Russie tsariste\, jusqu’à sa mort\, à Paris\, à 97 ans. \n\n Son œuvre exprime les sentiments et les difficultés qu’il rencontre\, la Révolution russe\, les deux guerres\, les émigrations... et aussi le bonheur\, la joie\, la couleur\, la fantaisie et la liberté dans la vie. Le regard sur ses tableaux fait réfléchir\, découvrir\, réagir et partager un peu de son riche monde intérieur.   Les tableaux\, lithographies\, poteries et sculptures expriment ce qu’il ressent au moment où il le vit. \n\n On ne peut que se mettre à vivre\, face à lui. Ce qu’il nous donne nous permet d’approcher à la fois l’homme\, dans ses périodes de doute\, de souffrances et dans sa soif d’amour de la vie. \n\nCliquez sur le lien suivant pour plus d'informations ou vous connecter à la conférence : http://www.happyvisio.com/conference/7464-marc-chagall-1887-1985-une-vie-de-peintre-peintre-de-la-vie
X-ALT-DESC;FMTTYPE=text/html:TITRE DE LA CONFÉRENCE : Marc Chagall (1887-1985), une vie de peintre, peintre de la vie DATE ET HEURE DE LA CONFÉRENCE : 17/12/2025 14h30 DURÉE DE LA CONFÉRENCE : 60 minutes DESCRIPTION : La découverte de la vie et de l’œuvre de Chagall nous est proposée en voyageant avec lui\, dans le temps\, avec et à travers sa peinture. Le parcours est à la fois chronologique et artistique\, depuis sa naissance en 1897 à Vitebsk en Russie tsariste\, jusqu’à sa mort\, à Paris\, à 97 ans. \n\n Son œuvre exprime les sentiments et les difficultés qu’il rencontre\, la Révolution russe\, les deux guerres\, les émigrations... et aussi le bonheur\, la joie\, la couleur\, la fantaisie et la liberté dans la vie. Le regard sur ses tableaux fait réfléchir\, découvrir\, réagir et partager un peu de son riche monde intérieur.   Les tableaux\, lithographies\, poteries et sculptures expriment ce qu’il ressent au moment où il le vit. \n\n On ne peut que se mettre à vivre\, face à lui. Ce qu’il nous donne nous permet d’approcher à la fois l’homme\, dans ses périodes de doute\, de souffrances et dans sa soif d’amour de la vie. \n\nCliquez sur le lien suivant pour plus d'informations ou vous connecter à la conférence : http://www.happyvisio.com/conference/7464-marc-chagall-1887-1985-une-vie-de-peintre-peintre-de-la-vie
END:VEVENT
END:VCALENDAR
