BEGIN:VCALENDAR
VERSION:2.0
BEGIN:VEVENT
TZID:Europe/Paris
STATUS:CONFIRMED
DTSTART:20251119T143000
DTEND:20251119T153000
SUMMARY:Le volcanisme, la terre respire
DESCRIPTION:<p><b>Titre de la conférence</b> : Le volcanisme, la terre respire </p>
 <p><b>Date et heure de la conférence</b> : 19/11/2025 14h30</p>
 <p><b>Durée de la conférence </b>: 60 minutes</p>
 <b>Description</b> : <p>Les volcans sont responsables de la formation de notre atmosph&egrave\;re\, donc de la vie sur la Terre.*</p>\n\n<p>Les volcans actifs sont au nombre de 1.500\, dont une vingtaine serait en &eacute\;ruption &agrave\; chaque instant. Terrestres ou sous-marins\, leur activit&eacute\; est le r&eacute\;sultat du mouvement des plaques tectoniques.</p>\n\n<p>Leurs &eacute\;ruptions fascinent et apportent aussi bien des risques volcaniques (coul&eacute\;es de lave\, nu&eacute\;es ardentes\, &eacute\;missions de gaz) aux populations qui les entourent\, que des bienfaits pour la fertilit&eacute\; des sols..</p>\n\n<p>En sommeil ou en activit&eacute\;\, ils sont surveill&eacute\;s en permanence par les volcanologues. Leurs &eacute\;ruptions peuvent attirer de nombreux spectateurs lorsqu&rsquo\;elles sont surveill&eacute\;es et anticip&eacute\;es. En revanche\, les super-volcans dont les derni&egrave\;res &eacute\;ruptions connues datent de 26 000 ans (Nouvelle-Z&eacute\;lande) d&eacute\;truisent des r&eacute\;gions enti&egrave\;res et ont un impact climatique mondial.</p>\n<p><a href="http://www.happyvisio.com/conference/7462-le-volcanisme-la-terre-respire">Cliquez-ici pour obtenir plus d’informations ou vous connecter à la conférence</a></p>
X-ALT-DESC;FMTTYPE=text/html:<p><b>Titre de la conférence</b> : Le volcanisme, la terre respire </p>
 <p><b>Date et heure de la conférence</b> : 19/11/2025 14h30</p>
 <p><b>Durée de la conférence </b>: 60 minutes</p>
 <b>Description</b> : <p>Les volcans sont responsables de la formation de notre atmosph&egrave\;re\, donc de la vie sur la Terre.*</p>\n\n<p>Les volcans actifs sont au nombre de 1.500\, dont une vingtaine serait en &eacute\;ruption &agrave\; chaque instant. Terrestres ou sous-marins\, leur activit&eacute\; est le r&eacute\;sultat du mouvement des plaques tectoniques.</p>\n\n<p>Leurs &eacute\;ruptions fascinent et apportent aussi bien des risques volcaniques (coul&eacute\;es de lave\, nu&eacute\;es ardentes\, &eacute\;missions de gaz) aux populations qui les entourent\, que des bienfaits pour la fertilit&eacute\; des sols..</p>\n\n<p>En sommeil ou en activit&eacute\;\, ils sont surveill&eacute\;s en permanence par les volcanologues. Leurs &eacute\;ruptions peuvent attirer de nombreux spectateurs lorsqu&rsquo\;elles sont surveill&eacute\;es et anticip&eacute\;es. En revanche\, les super-volcans dont les derni&egrave\;res &eacute\;ruptions connues datent de 26 000 ans (Nouvelle-Z&eacute\;lande) d&eacute\;truisent des r&eacute\;gions enti&egrave\;res et ont un impact climatique mondial.</p>\n<p><a href="http://www.happyvisio.com/conference/7462-le-volcanisme-la-terre-respire">Cliquez-ici pour obtenir plus d’informations ou vous connecter à la conférence</a></p>
END:VEVENT
END:VCALENDAR
