BEGIN:VCALENDAR
VERSION:2.0
BEGIN:VEVENT
TZID:Europe/Paris
STATUS:CONFIRMED
DTSTART:20251204T143000
DTEND:20251204T153000
SUMMARY:Michel Ange et les Papes : tourmente et gloire
DESCRIPTION:TITRE DE LA CONFÉRENCE : Michel Ange et les Papes : tourmente et gloire\n\nDATE ET HEURE DE LA CONFÉRENCE : 04/12/2025 14h30\n\nDURÉE DE LA CONFÉRENCE : 60 minutes\n\nDESCRIPTION : À Rome\, dernière cité de la Renaissance italienne\, se joua un duel de géants entre le pape Jules II et Michel-Ange. L'enjeu : la chapelle Sixtine et la rénovation de la basilique Saint-Pierre.\n\nComment en est-on arrivé là ?\n\nC'est un cardinal qui\, le premier\, fait venir Michel-Ange à Rome\, puis c'est Jules II\, en 1505\, qui lui commande la réalisation son tombeau\, un projet colossal. Mais un an plus tard\, le pape donne la priorité à la construction de St Pierre qu'il confie à Bramante. Michel Ange\, furieux\, quitte Rome. Il n'est même pas payé pour le travail effectué.\n\nÀ partir de là\, injonctions papales et colères de l'artiste s'enchaînent. Cela se traduira pour Michel-Ange par des allées et venues entre Florence et Rome\, suivant le bon vouloir des papes successifs et les troubles qui se produisent\, en Italie\, dans ces décennies.\n\nDans ce contexte chaotique\, Michel-Ange a réalisé une œuvre colossale avec une assurance d'exécution sans égale ... et une extrême liberté.\n— Quand finiras-tu donc ? s'écriait le pape.\n— Quand je serai satisfait\, répondait Michel-Ange.\n\n \n\nCliquez sur le lien suivant pour plus d'informations ou vous connecter à la conférence : http://www.happyvisio.com/conference/7461-michel-ange-et-les-papes-tourmente-et-gloire
X-ALT-DESC;FMTTYPE=text/html:TITRE DE LA CONFÉRENCE : Michel Ange et les Papes : tourmente et gloire DATE ET HEURE DE LA CONFÉRENCE : 04/12/2025 14h30 DURÉE DE LA CONFÉRENCE : 60 minutes DESCRIPTION : À Rome\, dernière cité de la Renaissance italienne\, se joua un duel de géants entre le pape Jules II et Michel-Ange. L'enjeu : la chapelle Sixtine et la rénovation de la basilique Saint-Pierre.\n\nComment en est-on arrivé là ?\n\nC'est un cardinal qui\, le premier\, fait venir Michel-Ange à Rome\, puis c'est Jules II\, en 1505\, qui lui commande la réalisation son tombeau\, un projet colossal. Mais un an plus tard\, le pape donne la priorité à la construction de St Pierre qu'il confie à Bramante. Michel Ange\, furieux\, quitte Rome. Il n'est même pas payé pour le travail effectué.\n\nÀ partir de là\, injonctions papales et colères de l'artiste s'enchaînent. Cela se traduira pour Michel-Ange par des allées et venues entre Florence et Rome\, suivant le bon vouloir des papes successifs et les troubles qui se produisent\, en Italie\, dans ces décennies.\n\nDans ce contexte chaotique\, Michel-Ange a réalisé une œuvre colossale avec une assurance d'exécution sans égale ... et une extrême liberté.\n— Quand finiras-tu donc ? s'écriait le pape.\n— Quand je serai satisfait\, répondait Michel-Ange.\n\n \n\nCliquez sur le lien suivant pour plus d'informations ou vous connecter à la conférence : http://www.happyvisio.com/conference/7461-michel-ange-et-les-papes-tourmente-et-gloire
END:VEVENT
END:VCALENDAR
