BEGIN:VCALENDAR
VERSION:2.0
BEGIN:VEVENT
TZID:Europe/Paris
STATUS:CONFIRMED
DTSTART:20251029T143000
DTEND:20251029T153000
SUMMARY:Gerbert d’Aurillac, le pâtre auvergnat qui changea l’Europe vers l’an mil
DESCRIPTION:<p><b>Titre de la conférence</b> : Gerbert d’Aurillac, le pâtre auvergnat qui changea l’Europe vers l’an mil </p>
 <p><b>Date et heure de la conférence</b> : 29/10/2025 14h30</p>
 <p><b>Durée de la conférence </b>: 60 minutes</p>
 <b>Description</b> : <p>Une seule personne peut changer la face du monde !</p>\n\n<p>Oui\, c&rsquo\;est arriv&eacute\; chez nous au pire moment avec Gerbert d&rsquo\;Aurillac. Nous sommes au si&egrave\;cle de fer\, et en l&rsquo\;an 955 un simple p&acirc\;tre de neuf ans se fait remarquer et recruter par un monast&egrave\;re pour sa premi&egrave\;re invention astronomique.</p>\n\n<p>Il va loin et change profond&eacute\;ment l&rsquo\;Eglise\, remplace en France les rois Carolingiens par Hugues Capet\, assure une stabilit&eacute\; apr&egrave\;s les invasions barbares\, mais surtout provoque un changement de culture salutaire.</p>\n\n<p>C&rsquo\;est lui qui nous initie au z&eacute\;ro\, et aux math&eacute\;matiques arabes\, dont la musique\, et cr&eacute\;era ainsi notre premi&egrave\;re renaissance\, celles des universit&eacute\;s et des cath&eacute\;drales.</p>\n\n<p>Belle histoire que celle de Gerbert d&rsquo\;Aurillac puisqu&rsquo\;il inventa aussi l&rsquo\;&Eacute\;tat Fran&ccedil\;ais en inventant l&rsquo\;histoire de France.</p>\n<p><a href="http://www.happyvisio.com/conference/7460-gerbert-d-aurillac-le-patre-auvergnat-qui-changea-l-europe-vers-l-an-mil">Cliquez-ici pour obtenir plus d’informations ou vous connecter à la conférence</a></p>
X-ALT-DESC;FMTTYPE=text/html:<p><b>Titre de la conférence</b> : Gerbert d’Aurillac, le pâtre auvergnat qui changea l’Europe vers l’an mil </p>
 <p><b>Date et heure de la conférence</b> : 29/10/2025 14h30</p>
 <p><b>Durée de la conférence </b>: 60 minutes</p>
 <b>Description</b> : <p>Une seule personne peut changer la face du monde !</p>\n\n<p>Oui\, c&rsquo\;est arriv&eacute\; chez nous au pire moment avec Gerbert d&rsquo\;Aurillac. Nous sommes au si&egrave\;cle de fer\, et en l&rsquo\;an 955 un simple p&acirc\;tre de neuf ans se fait remarquer et recruter par un monast&egrave\;re pour sa premi&egrave\;re invention astronomique.</p>\n\n<p>Il va loin et change profond&eacute\;ment l&rsquo\;Eglise\, remplace en France les rois Carolingiens par Hugues Capet\, assure une stabilit&eacute\; apr&egrave\;s les invasions barbares\, mais surtout provoque un changement de culture salutaire.</p>\n\n<p>C&rsquo\;est lui qui nous initie au z&eacute\;ro\, et aux math&eacute\;matiques arabes\, dont la musique\, et cr&eacute\;era ainsi notre premi&egrave\;re renaissance\, celles des universit&eacute\;s et des cath&eacute\;drales.</p>\n\n<p>Belle histoire que celle de Gerbert d&rsquo\;Aurillac puisqu&rsquo\;il inventa aussi l&rsquo\;&Eacute\;tat Fran&ccedil\;ais en inventant l&rsquo\;histoire de France.</p>\n<p><a href="http://www.happyvisio.com/conference/7460-gerbert-d-aurillac-le-patre-auvergnat-qui-changea-l-europe-vers-l-an-mil">Cliquez-ici pour obtenir plus d’informations ou vous connecter à la conférence</a></p>
END:VEVENT
END:VCALENDAR
