BEGIN:VCALENDAR
VERSION:2.0
BEGIN:VEVENT
TZID:Europe/Paris
STATUS:CONFIRMED
DTSTART:20251022T143000
DTEND:20251022T153000
SUMMARY:Georges de La Tour (1593-1652), peintre du silence et de la nuit
DESCRIPTION:TITRE DE LA CONFÉRENCE : Georges de La Tour (1593-1652), peintre du silence et de la nuit\n\nDATE ET HEURE DE LA CONFÉRENCE : 22/10/2025 14h30\n\nDURÉE DE LA CONFÉRENCE : 60 minutes\n\nDESCRIPTION : Le peintre lorrain\, Georges de la Tour\, est actuellement le représentant le plus populaire des scènes nocturnes éclairées à la chandelle\, comme le célèbre Nouveau-Né du musée de Rennes.\n\nSon art s’inscrit dans une époque marquée par la Contre-Réforme\, la peinture en clair-obscur du Caravage et les désastres de la guerre de Trente ans.\n\nCette période troublée est favorable au mysticisme et à la valorisation de la nuit.\nAyant peint des compositions de format modeste loin de la cour de France\, son nom tombera dans l’oubli après son décès et ne sera redécouvert qu’au XXe siècle.\n\nLes sources de lumière telles la lampe à huile\, la bougie\, le flambeau ou la lanterne participent à la signification des tableaux qui nous font pénétrer dans l’atmosphère des « nuits » intimistes ou studieuses\, loin des bouleversements induits par l’éclairage moderne. \n\n \n\nCliquez sur le lien suivant pour plus d'informations ou vous connecter à la conférence : http://www.happyvisio.com/conference/7459-georges-de-la-tour-1593-1652-peintre-du-silence-et-de-la-nuit
X-ALT-DESC;FMTTYPE=text/html:TITRE DE LA CONFÉRENCE : Georges de La Tour (1593-1652), peintre du silence et de la nuit DATE ET HEURE DE LA CONFÉRENCE : 22/10/2025 14h30 DURÉE DE LA CONFÉRENCE : 60 minutes DESCRIPTION : Le peintre lorrain\, Georges de la Tour\, est actuellement le représentant le plus populaire des scènes nocturnes éclairées à la chandelle\, comme le célèbre Nouveau-Né du musée de Rennes.\n\nSon art s’inscrit dans une époque marquée par la Contre-Réforme\, la peinture en clair-obscur du Caravage et les désastres de la guerre de Trente ans.\n\nCette période troublée est favorable au mysticisme et à la valorisation de la nuit.\nAyant peint des compositions de format modeste loin de la cour de France\, son nom tombera dans l’oubli après son décès et ne sera redécouvert qu’au XXe siècle.\n\nLes sources de lumière telles la lampe à huile\, la bougie\, le flambeau ou la lanterne participent à la signification des tableaux qui nous font pénétrer dans l’atmosphère des « nuits » intimistes ou studieuses\, loin des bouleversements induits par l’éclairage moderne. \n\n \n\nCliquez sur le lien suivant pour plus d'informations ou vous connecter à la conférence : http://www.happyvisio.com/conference/7459-georges-de-la-tour-1593-1652-peintre-du-silence-et-de-la-nuit
END:VEVENT
END:VCALENDAR
