BEGIN:VCALENDAR
VERSION:2.0
BEGIN:VEVENT
TZID:Europe/Paris
STATUS:CONFIRMED
DTSTART:20251107T100000
DTEND:20251107T111500
SUMMARY:Demain, je m’y mets !
DESCRIPTION:TITRE DE LA CONFÉRENCE : Demain, je m’y mets !\n\nDATE ET HEURE DE LA CONFÉRENCE : 07/11/2025 10h00\n\nDURÉE DE LA CONFÉRENCE : 75 minutes\n\nDESCRIPTION : Il faudrait que je mange moins de fromage\, que je bouge plus souvent\, que j’arrête de fumer\, que je fasse un test auditif…  \n\nJe suis convaincu(e) que ce serait bien pour moi mais je ne me décide pas. Parfois ça me fait même culpabiliser\, à d’autres moments je m’en fiche… Alors\, comment passer de l'intention à l'action ?\n\nVenez découvrir les clés pour changer vos habitudes et réussir à mieux prendre soin de votre santé au quotidien.\n\n \n\n \n\nCliquez sur le lien suivant pour plus d'informations ou vous connecter à la conférence : http://www.happyvisio.com/conference/7436-Demain-je-m-y-mets
X-ALT-DESC;FMTTYPE=text/html:TITRE DE LA CONFÉRENCE : Demain, je m’y mets ! DATE ET HEURE DE LA CONFÉRENCE : 07/11/2025 10h00 DURÉE DE LA CONFÉRENCE : 75 minutes DESCRIPTION : Il faudrait que je mange moins de fromage\, que je bouge plus souvent\, que j’arrête de fumer\, que je fasse un test auditif…  \n\nJe suis convaincu(e) que ce serait bien pour moi mais je ne me décide pas. Parfois ça me fait même culpabiliser\, à d’autres moments je m’en fiche… Alors\, comment passer de l'intention à l'action ?\n\nVenez découvrir les clés pour changer vos habitudes et réussir à mieux prendre soin de votre santé au quotidien.\n\n \n\n \n\nCliquez sur le lien suivant pour plus d'informations ou vous connecter à la conférence : http://www.happyvisio.com/conference/7436-Demain-je-m-y-mets
END:VEVENT
END:VCALENDAR
