BEGIN:VCALENDAR
VERSION:2.0
BEGIN:VEVENT
TZID:Europe/Paris
STATUS:CONFIRMED
DTSTART:20251014T190000
DTEND:20251014T200000
SUMMARY:Les bonnes habitudes anti-cholestérol
DESCRIPTION:<p><b>Titre de la conférence</b> : Les bonnes habitudes anti-cholestérol </p>
 <p><b>Date et heure de la conférence</b> : 14/10/2025 19h00</p>
 <p><b>Durée de la conférence </b>: 60 minutes</p>
 <b>Description</b> : <p>Le cholest&eacute\;rol est un facteur cl&eacute\; dans la sant&eacute\; cardiovasculaire\, mais toutes les graisses ne sont pas &agrave\; bannir ! Dans ce webinaire\, d&eacute\;couvrez comment adopter des habitudes simples et efficaces pour r&eacute\;guler naturellement votre taux de cholest&eacute\;rol.<br />\nAu programme :<br />\n✔ Comprendre le &quot\;bon&quot\; et le &quot\;mauvais&quot\; cholest&eacute\;rol<br />\n✔ Les erreurs alimentaires les plus fr&eacute\;quentes<br />\n✔ Les aliments &agrave\; privil&eacute\;gier (et ceux &agrave\; limiter)<br />\n✔ Activit&eacute\; physique\, sommeil\, stress : leur impact sur le cholest&eacute\;rol<br />\n✔ Conseils pratiques pour am&eacute\;liorer son mode de vie au quotidien<br />\nVous repartirez avec des rep&egrave\;res clairs et des astuces concr&egrave\;tes pour prendre soin de votre c&oelig\;ur\, sans tomber dans la culpabilit&eacute\; ni les r&eacute\;gimes extr&ecirc\;mes.</p>\n\n<p>&nbsp\;</p>\n\n<p><span style=\"color:#2ecc71\">Pour rappel l&#39\;IRCEM Pr&eacute\;voyance finance votre 1er bilan nutritionnel d&#39\;une valeur de 70 euros \, 5 euros seulement restent &agrave\; votre charge.</span></p>\n<p><a href="http://www.happyvisio.com/conference/7432-Les-bonnes-habitudes-anti-cholesterol">Cliquez-ici pour obtenir plus d’informations ou vous connecter à la conférence</a></p>
X-ALT-DESC;FMTTYPE=text/html:<p><b>Titre de la conférence</b> : Les bonnes habitudes anti-cholestérol </p>
 <p><b>Date et heure de la conférence</b> : 14/10/2025 19h00</p>
 <p><b>Durée de la conférence </b>: 60 minutes</p>
 <b>Description</b> : <p>Le cholest&eacute\;rol est un facteur cl&eacute\; dans la sant&eacute\; cardiovasculaire\, mais toutes les graisses ne sont pas &agrave\; bannir ! Dans ce webinaire\, d&eacute\;couvrez comment adopter des habitudes simples et efficaces pour r&eacute\;guler naturellement votre taux de cholest&eacute\;rol.<br />\nAu programme :<br />\n✔ Comprendre le &quot\;bon&quot\; et le &quot\;mauvais&quot\; cholest&eacute\;rol<br />\n✔ Les erreurs alimentaires les plus fr&eacute\;quentes<br />\n✔ Les aliments &agrave\; privil&eacute\;gier (et ceux &agrave\; limiter)<br />\n✔ Activit&eacute\; physique\, sommeil\, stress : leur impact sur le cholest&eacute\;rol<br />\n✔ Conseils pratiques pour am&eacute\;liorer son mode de vie au quotidien<br />\nVous repartirez avec des rep&egrave\;res clairs et des astuces concr&egrave\;tes pour prendre soin de votre c&oelig\;ur\, sans tomber dans la culpabilit&eacute\; ni les r&eacute\;gimes extr&ecirc\;mes.</p>\n\n<p>&nbsp\;</p>\n\n<p><span style=\"color:#2ecc71\">Pour rappel l&#39\;IRCEM Pr&eacute\;voyance finance votre 1er bilan nutritionnel d&#39\;une valeur de 70 euros \, 5 euros seulement restent &agrave\; votre charge.</span></p>\n<p><a href="http://www.happyvisio.com/conference/7432-Les-bonnes-habitudes-anti-cholesterol">Cliquez-ici pour obtenir plus d’informations ou vous connecter à la conférence</a></p>
END:VEVENT
END:VCALENDAR
