BEGIN:VCALENDAR
VERSION:2.0
BEGIN:VEVENT
TZID:Europe/Paris
STATUS:CONFIRMED
DTSTART:20251125T123000
DTEND:20251125T133000
SUMMARY:Gestes et postures : le port de charges
DESCRIPTION:<p><b>Titre de la conférence</b> : Gestes et postures : le port de charges </p>
 <p><b>Date et heure de la conférence</b> : 25/11/2025 12h30</p>
 <p><b>Durée de la conférence </b>: 60 minutes</p>
 <b>Description</b> : <p>R&eacute\;duisez les risques de blessures et am&eacute\;liorez votre bien-&ecirc\;tre au travail !</p>\n\n<p>Ce webinaire vous guidera &agrave\; travers les principes fondamentaux des gestes et postures sp&eacute\;cifiques au port de charges. Nous aborderons les risques li&eacute\;s &agrave\; la manutention\, nous discuterons &eacute\;galement de l&#39\;utilit&eacute\; ou non du port d&#39\;une ceinture lombaire et vous pr&eacute\;senterons concr&egrave\;tement des exercices simples &agrave\; faire avant de manipuler des charges pour pr&eacute\;parer votre corps.</p>\n\n<p>Nous vous proposerons des techniques pratiques et des conseils pour pr&eacute\;venir les troubles musculo-squelettiques et adopter une approche ergonomique dans vos activit&eacute\;s quotidiennes.</p>\n<p><a href="http://www.happyvisio.com/conference/7428-Gestes-et-postures-le-port-de-charges">Cliquez-ici pour obtenir plus d’informations ou vous connecter à la conférence</a></p>
X-ALT-DESC;FMTTYPE=text/html:<p><b>Titre de la conférence</b> : Gestes et postures : le port de charges </p>
 <p><b>Date et heure de la conférence</b> : 25/11/2025 12h30</p>
 <p><b>Durée de la conférence </b>: 60 minutes</p>
 <b>Description</b> : <p>R&eacute\;duisez les risques de blessures et am&eacute\;liorez votre bien-&ecirc\;tre au travail !</p>\n\n<p>Ce webinaire vous guidera &agrave\; travers les principes fondamentaux des gestes et postures sp&eacute\;cifiques au port de charges. Nous aborderons les risques li&eacute\;s &agrave\; la manutention\, nous discuterons &eacute\;galement de l&#39\;utilit&eacute\; ou non du port d&#39\;une ceinture lombaire et vous pr&eacute\;senterons concr&egrave\;tement des exercices simples &agrave\; faire avant de manipuler des charges pour pr&eacute\;parer votre corps.</p>\n\n<p>Nous vous proposerons des techniques pratiques et des conseils pour pr&eacute\;venir les troubles musculo-squelettiques et adopter une approche ergonomique dans vos activit&eacute\;s quotidiennes.</p>\n<p><a href="http://www.happyvisio.com/conference/7428-Gestes-et-postures-le-port-de-charges">Cliquez-ici pour obtenir plus d’informations ou vous connecter à la conférence</a></p>
END:VEVENT
END:VCALENDAR
