BEGIN:VCALENDAR
VERSION:2.0
BEGIN:VEVENT
TZID:Europe/Paris
STATUS:CONFIRMED
DTSTART:20251014T100000
DTEND:20251014T113000
SUMMARY:Être grands-parents parlons-en !
DESCRIPTION:<p><b>Titre de la conférence</b> : Être grands-parents parlons-en ! </p>
 <p><b>Date et heure de la conférence</b> : 14/10/2025 10h00</p>
 <p><b>Durée de la conférence </b>: 90 minutes</p>
 <b>Description</b> : <p style=\"text-align:justify\">Après une présentation de l’École des Grands Parents (EGPE créé en 1994)\, et de la ligne \"allo grands parents\" où quelques chiffres vous surprendrons\, vous pourrez suivre ensuite l’intervention de madame Debiol\, psychologue qui expliquera combien le lien avec les petits enfants est bénéfique sur l\'avancée en âge dans de bonnes conditions.</p>\n\n<p style=\"text-align:justify\">&nbsp\;</p>\n\n<p style=\"text-align:justify\">Cette conférence est proposée par l\'<a href=\"https://www.agirc-arrco.fr/\" target=\"_blank\">Agirc</a><a href=\"https://www.agirc-arrco.fr/\" target=\"_blank\">&nbsp\;Arrco</a>.</p>\n\n<p style=\"text-align:justify\">L’Agirc-Arrco vous propose de participer à des événements organisés au plus près de chez vous en présentiel : Conférences\, Forum\, Théâtres\, Activités physiques. Pour découvrir ces activités et vous y inscrire\, veuillez cliquer&nbsp\;<a href=\"https://www.agirc-arrco.fr/particuliers/mes-services-particuliers/accompagnement-et-prevention/je-participe-a-un-evenement/\" target=\"_blank\">ici.</a></p>\n\n<p>Pour découvrir la programmation \"Les Mardis de l\'Agirc-Arrco\" cliquez&nbsp\;<a href=\"https://www.happyvisio.com/invitation/programme?list=136\" target=\"_blank\">ici</a>.&nbsp\;</p>\n<p><a href="http://www.happyvisio.com/conference/7416-etre-grands-parents-parlons-en">Cliquez-ici pour obtenir plus d’informations ou vous connecter à la conférence</a></p>
X-ALT-DESC;FMTTYPE=text/html:<p><b>Titre de la conférence</b> : Être grands-parents parlons-en ! </p>
 <p><b>Date et heure de la conférence</b> : 14/10/2025 10h00</p>
 <p><b>Durée de la conférence </b>: 90 minutes</p>
 <b>Description</b> : <p style=\"text-align:justify\">Après une présentation de l’École des Grands Parents (EGPE créé en 1994)\, et de la ligne \"allo grands parents\" où quelques chiffres vous surprendrons\, vous pourrez suivre ensuite l’intervention de madame Debiol\, psychologue qui expliquera combien le lien avec les petits enfants est bénéfique sur l\'avancée en âge dans de bonnes conditions.</p>\n\n<p style=\"text-align:justify\">&nbsp\;</p>\n\n<p style=\"text-align:justify\">Cette conférence est proposée par l\'<a href=\"https://www.agirc-arrco.fr/\" target=\"_blank\">Agirc</a><a href=\"https://www.agirc-arrco.fr/\" target=\"_blank\">&nbsp\;Arrco</a>.</p>\n\n<p style=\"text-align:justify\">L’Agirc-Arrco vous propose de participer à des événements organisés au plus près de chez vous en présentiel : Conférences\, Forum\, Théâtres\, Activités physiques. Pour découvrir ces activités et vous y inscrire\, veuillez cliquer&nbsp\;<a href=\"https://www.agirc-arrco.fr/particuliers/mes-services-particuliers/accompagnement-et-prevention/je-participe-a-un-evenement/\" target=\"_blank\">ici.</a></p>\n\n<p>Pour découvrir la programmation \"Les Mardis de l\'Agirc-Arrco\" cliquez&nbsp\;<a href=\"https://www.happyvisio.com/invitation/programme?list=136\" target=\"_blank\">ici</a>.&nbsp\;</p>\n<p><a href="http://www.happyvisio.com/conference/7416-etre-grands-parents-parlons-en">Cliquez-ici pour obtenir plus d’informations ou vous connecter à la conférence</a></p>
END:VEVENT
END:VCALENDAR
