BEGIN:VCALENDAR
VERSION:2.0
BEGIN:VEVENT
TZID:Europe/Paris
STATUS:CONFIRMED
DTSTART:20251124T143000
DTEND:20251124T153000
SUMMARY:Achats en ligne : bons plans et sécurité à l'approche des fêtes
DESCRIPTION:<p><b>Titre de la conférence</b> : Achats en ligne : bons plans et sécurité à l'approche des fêtes </p>
 <p><b>Date et heure de la conférence</b> : 24/11/2025 14h30</p>
 <p><b>Durée de la conférence </b>: 60 minutes</p>
 <b>Description</b> : <p>No&euml\;l arrive\, les promotions du Black Friday aussi... et si vous en profitiez sans stress ?</p>\n\n<p>Cette conf&eacute\;rence vous aidera &agrave\; ma&icirc\;triser les bases de l&#39\;achat en ligne\, &eacute\;viter les pi&egrave\;ges\, reconna&icirc\;tre un site fiable\, suivre votre commande et rep&eacute\;rer les vrais bons plans.</p>\n\n<p>Une s&eacute\;ance claire et rassurante pour gagner en autonomie\, &eacute\;conomiser sans risque\, et faire vos achats depuis chez vous\, &agrave\; votre rythme\, avec plus de confiance.</p>\n<p><a href="http://www.happyvisio.com/conference/7414-Achats-en-ligne-bons-plans-et-securite-a-l-approche-des-fetes">Cliquez-ici pour obtenir plus d’informations ou vous connecter à la conférence</a></p>
X-ALT-DESC;FMTTYPE=text/html:<p><b>Titre de la conférence</b> : Achats en ligne : bons plans et sécurité à l'approche des fêtes </p>
 <p><b>Date et heure de la conférence</b> : 24/11/2025 14h30</p>
 <p><b>Durée de la conférence </b>: 60 minutes</p>
 <b>Description</b> : <p>No&euml\;l arrive\, les promotions du Black Friday aussi... et si vous en profitiez sans stress ?</p>\n\n<p>Cette conf&eacute\;rence vous aidera &agrave\; ma&icirc\;triser les bases de l&#39\;achat en ligne\, &eacute\;viter les pi&egrave\;ges\, reconna&icirc\;tre un site fiable\, suivre votre commande et rep&eacute\;rer les vrais bons plans.</p>\n\n<p>Une s&eacute\;ance claire et rassurante pour gagner en autonomie\, &eacute\;conomiser sans risque\, et faire vos achats depuis chez vous\, &agrave\; votre rythme\, avec plus de confiance.</p>\n<p><a href="http://www.happyvisio.com/conference/7414-Achats-en-ligne-bons-plans-et-securite-a-l-approche-des-fetes">Cliquez-ici pour obtenir plus d’informations ou vous connecter à la conférence</a></p>
END:VEVENT
END:VCALENDAR
