BEGIN:VCALENDAR
VERSION:2.0
BEGIN:VEVENT
TZID:Europe/Paris
STATUS:CONFIRMED
DTSTART:20251027T143000
DTEND:20251027T153000
SUMMARY:Windows évolue... et vous aussi ! Comprendre les nouvelles versions sans stress
DESCRIPTION:TITRE DE LA CONFÉRENCE : Windows évolue... et vous aussi ! Comprendre les nouvelles versions sans stress\n\nDATE ET HEURE DE LA CONFÉRENCE : 27/10/2025 14h30\n\nDURÉE DE LA CONFÉRENCE : 60 minutes\n\nDESCRIPTION : Une nouvelle version de Windows arrive... et vous vous demandez ce que cela change pour vous ?\n\nPas de panique : cette conférence en ligne vous explique ce qu'est vraiment un "système d'exploitation"\, à quoi servent les mises à jour\, et comment savoir si votre ordinateur est encore adapté.\n\nVous apprendrez à faire le tri entre les vraies infos et les rumeurs\, à repérer les signes de compatibilité et à prendre les bonnes décisions\, simplement et en toute sérénité. Un rendez-vous pour mieux comprendre sans se sentir dépassé.\n\nCliquez sur le lien suivant pour plus d'informations ou vous connecter à la conférence : http://www.happyvisio.com/conference/7413-Windows-evolue-et-vous-aussi-Comprendre-les-nouvelles-versions-sans-stress
X-ALT-DESC;FMTTYPE=text/html:TITRE DE LA CONFÉRENCE : Windows évolue... et vous aussi ! Comprendre les nouvelles versions sans stress DATE ET HEURE DE LA CONFÉRENCE : 27/10/2025 14h30 DURÉE DE LA CONFÉRENCE : 60 minutes DESCRIPTION : Une nouvelle version de Windows arrive... et vous vous demandez ce que cela change pour vous ?\n\nPas de panique : cette conférence en ligne vous explique ce qu'est vraiment un "système d'exploitation"\, à quoi servent les mises à jour\, et comment savoir si votre ordinateur est encore adapté.\n\nVous apprendrez à faire le tri entre les vraies infos et les rumeurs\, à repérer les signes de compatibilité et à prendre les bonnes décisions\, simplement et en toute sérénité. Un rendez-vous pour mieux comprendre sans se sentir dépassé.\n\nCliquez sur le lien suivant pour plus d'informations ou vous connecter à la conférence : http://www.happyvisio.com/conference/7413-Windows-evolue-et-vous-aussi-Comprendre-les-nouvelles-versions-sans-stress
END:VEVENT
END:VCALENDAR
