BEGIN:VCALENDAR
VERSION:2.0
BEGIN:VEVENT
TZID:Europe/Paris
STATUS:CONFIRMED
DTSTART:20251007T100000
DTEND:20251007T113000
SUMMARY:Mission Répit : rechargez vos batteries d'aidant
DESCRIPTION:<p><b>Titre de la conférence</b> : Mission Répit : rechargez vos batteries d'aidant </p>
 <p><b>Date et heure de la conférence</b> : 07/10/2025 10h00</p>
 <p><b>Durée de la conférence </b>: 90 minutes</p>
 <b>Description</b> : <p style=\"text-align:justify\">Vous avez envie de vous reposer et de vous ressourcer mais vous ne savez pas comment faire&nbsp\;?<br />\n<br />\nCette conférence vous présente les solutions concrètes pour vous accorder des moments de répit\, que ce soit à domicile\, en établissement ou en vacances. Nous explorons également les différentes formes de soutien psychologique et d\'échange dont vous pouvez bénéficier. Découvrez comment concilier votre rôle d\'aidant avec votre bien-être personnel&nbsp\;!<br />\n&nbsp\;</p>\n\n<p style=\"text-align:justify\">Cette conférence est proposée par l\'<a href=\"https://www.agirc-arrco.fr/\" target=\"_blank\">Agirc</a><a href=\"https://www.agirc-arrco.fr/\" target=\"_blank\">&nbsp\;Arrco</a>.</p>\n\n<p style=\"text-align:justify\">L’Agirc-Arrco vous propose de participer à des événements organisés au plus près de chez vous en présentiel : Conférences\, Forum\, Théâtres\, Activités physiques. Pour découvrir ces activités et vous y inscrire\, veuillez cliquer&nbsp\;<a href=\"https://www.agirc-arrco.fr/particuliers/mes-services-particuliers/accompagnement-et-prevention/je-participe-a-un-evenement/\" target=\"_blank\">ici.</a><br />\n&nbsp\;</p>\n\n<p><strong>Pour découvrir la programmation \"Les Mardis de l\'Agirc-Arrco\" cliquez&nbsp\;<a href=\"https://www.happyvisio.com/invitation/programme?list=136\" target=\"_blank\">ici</a>.&nbsp\;</strong><br />\n&nbsp\;</p>\n\n<p>Retrouvez le <a href=\"https://haltemis.notion.site/Les-mardis-de-l-Agirc-Arrco-17da277b494780cf870ee0f1447c780a\">livret ressource de l\'Agirc-Arrco</a> lié aux conférences sur le thème des aidants au cours de ces rendez-vous des mardis de l\'Agirc-Arrco&nbsp\;!<br />\n&nbsp\;</p>\n<p><a href="http://www.happyvisio.com/conference/7410-mission-repit-rechargez-vos-batteries-d-aidant">Cliquez-ici pour obtenir plus d’informations ou vous connecter à la conférence</a></p>
X-ALT-DESC;FMTTYPE=text/html:<p><b>Titre de la conférence</b> : Mission Répit : rechargez vos batteries d'aidant </p>
 <p><b>Date et heure de la conférence</b> : 07/10/2025 10h00</p>
 <p><b>Durée de la conférence </b>: 90 minutes</p>
 <b>Description</b> : <p style=\"text-align:justify\">Vous avez envie de vous reposer et de vous ressourcer mais vous ne savez pas comment faire&nbsp\;?<br />\n<br />\nCette conférence vous présente les solutions concrètes pour vous accorder des moments de répit\, que ce soit à domicile\, en établissement ou en vacances. Nous explorons également les différentes formes de soutien psychologique et d\'échange dont vous pouvez bénéficier. Découvrez comment concilier votre rôle d\'aidant avec votre bien-être personnel&nbsp\;!<br />\n&nbsp\;</p>\n\n<p style=\"text-align:justify\">Cette conférence est proposée par l\'<a href=\"https://www.agirc-arrco.fr/\" target=\"_blank\">Agirc</a><a href=\"https://www.agirc-arrco.fr/\" target=\"_blank\">&nbsp\;Arrco</a>.</p>\n\n<p style=\"text-align:justify\">L’Agirc-Arrco vous propose de participer à des événements organisés au plus près de chez vous en présentiel : Conférences\, Forum\, Théâtres\, Activités physiques. Pour découvrir ces activités et vous y inscrire\, veuillez cliquer&nbsp\;<a href=\"https://www.agirc-arrco.fr/particuliers/mes-services-particuliers/accompagnement-et-prevention/je-participe-a-un-evenement/\" target=\"_blank\">ici.</a><br />\n&nbsp\;</p>\n\n<p><strong>Pour découvrir la programmation \"Les Mardis de l\'Agirc-Arrco\" cliquez&nbsp\;<a href=\"https://www.happyvisio.com/invitation/programme?list=136\" target=\"_blank\">ici</a>.&nbsp\;</strong><br />\n&nbsp\;</p>\n\n<p>Retrouvez le <a href=\"https://haltemis.notion.site/Les-mardis-de-l-Agirc-Arrco-17da277b494780cf870ee0f1447c780a\">livret ressource de l\'Agirc-Arrco</a> lié aux conférences sur le thème des aidants au cours de ces rendez-vous des mardis de l\'Agirc-Arrco&nbsp\;!<br />\n&nbsp\;</p>\n<p><a href="http://www.happyvisio.com/conference/7410-mission-repit-rechargez-vos-batteries-d-aidant">Cliquez-ici pour obtenir plus d’informations ou vous connecter à la conférence</a></p>
END:VEVENT
END:VCALENDAR
