BEGIN:VCALENDAR
VERSION:2.0
BEGIN:VEVENT
TZID:Europe/Paris
STATUS:CONFIRMED
DTSTART:20251215T143000
DTEND:20251215T153000
SUMMARY:Faites vos cartes de vœux avec Canva
DESCRIPTION:<p><b>Titre de la conférence</b> : Faites vos cartes de vœux avec Canva </p>
 <p><b>Date et heure de la conférence</b> : 15/12/2025 14h30</p>
 <p><b>Durée de la conférence </b>: 60 minutes</p>
 <b>Description</b> : <p>C&#39\;est l&#39\;&eacute\;poque des cartes de v&oelig\;ux\, des albums photos et des livres de l&#39\;ann&eacute\;e.</p>\n\n<p>Sylvain vous explique comment cr&eacute\;er un compte\, les principales fonctionnalit&eacute\;s et options\, o&ugrave\; trouver des mod&egrave\;les&hellip\; et ainsi cr&eacute\;er en quelques clics votre carte personnalis&eacute\;e.</p>\n\n<p>Ensuite\, il vous indiquera comment les t&eacute\;l&eacute\;charger et les imprimer.</p>\n\n<p>Bonnes f&ecirc\;tes &agrave\; tous !</p>\n<p><a href="http://www.happyvisio.com/conference/7402-Faites-vos-cartes-de-voeux-avec-Canva">Cliquez-ici pour obtenir plus d’informations ou vous connecter à la conférence</a></p>
X-ALT-DESC;FMTTYPE=text/html:<p><b>Titre de la conférence</b> : Faites vos cartes de vœux avec Canva </p>
 <p><b>Date et heure de la conférence</b> : 15/12/2025 14h30</p>
 <p><b>Durée de la conférence </b>: 60 minutes</p>
 <b>Description</b> : <p>C&#39\;est l&#39\;&eacute\;poque des cartes de v&oelig\;ux\, des albums photos et des livres de l&#39\;ann&eacute\;e.</p>\n\n<p>Sylvain vous explique comment cr&eacute\;er un compte\, les principales fonctionnalit&eacute\;s et options\, o&ugrave\; trouver des mod&egrave\;les&hellip\; et ainsi cr&eacute\;er en quelques clics votre carte personnalis&eacute\;e.</p>\n\n<p>Ensuite\, il vous indiquera comment les t&eacute\;l&eacute\;charger et les imprimer.</p>\n\n<p>Bonnes f&ecirc\;tes &agrave\; tous !</p>\n<p><a href="http://www.happyvisio.com/conference/7402-Faites-vos-cartes-de-voeux-avec-Canva">Cliquez-ici pour obtenir plus d’informations ou vous connecter à la conférence</a></p>
END:VEVENT
END:VCALENDAR
