BEGIN:VCALENDAR
VERSION:2.0
BEGIN:VEVENT
TZID:Europe/Paris
STATUS:CONFIRMED
DTSTART:20251117T143000
DTEND:20251117T153000
SUMMARY:Scanner, imprimer et partager depuis votre smartphone !
DESCRIPTION:<p><b>Titre de la conférence</b> : Scanner, imprimer et partager depuis votre smartphone ! </p>
 <p><b>Date et heure de la conférence</b> : 17/11/2025 14h30</p>
 <p><b>Durée de la conférence </b>: 60 minutes</p>
 <b>Description</b> : <p>Le smartphone peut tout faire ?</p>\n\n<p>Sylvain vous d&eacute\;montrera en tout cas que vous pouvez\, en quelques manipulations\, scanner\, imprimer et partager tout type de documents (photo\, formulaire\, papier...) depuis votre appareil (Iphone ou Android).</p>\n\n<p>Utilisez toutes les possibilit&eacute\;s de votre smartphone !&nbsp\;</p>\n<p><a href="http://www.happyvisio.com/conference/7401-scanner-imprimer-et-partager-depuis-votre-smartphone">Cliquez-ici pour obtenir plus d’informations ou vous connecter à la conférence</a></p>
X-ALT-DESC;FMTTYPE=text/html:<p><b>Titre de la conférence</b> : Scanner, imprimer et partager depuis votre smartphone ! </p>
 <p><b>Date et heure de la conférence</b> : 17/11/2025 14h30</p>
 <p><b>Durée de la conférence </b>: 60 minutes</p>
 <b>Description</b> : <p>Le smartphone peut tout faire ?</p>\n\n<p>Sylvain vous d&eacute\;montrera en tout cas que vous pouvez\, en quelques manipulations\, scanner\, imprimer et partager tout type de documents (photo\, formulaire\, papier...) depuis votre appareil (Iphone ou Android).</p>\n\n<p>Utilisez toutes les possibilit&eacute\;s de votre smartphone !&nbsp\;</p>\n<p><a href="http://www.happyvisio.com/conference/7401-scanner-imprimer-et-partager-depuis-votre-smartphone">Cliquez-ici pour obtenir plus d’informations ou vous connecter à la conférence</a></p>
END:VEVENT
END:VCALENDAR
