BEGIN:VCALENDAR
VERSION:2.0
BEGIN:VEVENT
TZID:Europe/Paris
STATUS:CONFIRMED
DTSTART:20251020T143000
DTEND:20251020T153000
SUMMARY:Smartphone et connexions : wifi, données, bluetooth...
DESCRIPTION:TITRE DE LA CONFÉRENCE : Smartphone et connexions : wifi, données, bluetooth...\n\nDATE ET HEURE DE LA CONFÉRENCE : 20/10/2025 14h30\n\nDURÉE DE LA CONFÉRENCE : 60 minutes\n\nDESCRIPTION : Découvrez l'univers des connexions de votre smartphone (Iphone ou Android) avec Sylvain !\n\nLes différents moyens de se connecter au wifi (QR Code\, mot de passe...)\, le partage de connexion des données mobiles avec un autre appareil\, le bluetooth\, la 4G\, la 5G apprenez à maîtriser toutes les facettes de votre connectivité.\n\nSylvain vous guidera pour optimiser votre expérience et tirer le meilleur parti de votre appareil. \n\n \n\nCliquez sur le lien suivant pour plus d'informations ou vous connecter à la conférence : http://www.happyvisio.com/conference/7400-Smartphone-et-connexions-wifi-donnees-bluetooth
X-ALT-DESC;FMTTYPE=text/html:TITRE DE LA CONFÉRENCE : Smartphone et connexions : wifi, données, bluetooth... DATE ET HEURE DE LA CONFÉRENCE : 20/10/2025 14h30 DURÉE DE LA CONFÉRENCE : 60 minutes DESCRIPTION : Découvrez l'univers des connexions de votre smartphone (Iphone ou Android) avec Sylvain !\n\nLes différents moyens de se connecter au wifi (QR Code\, mot de passe...)\, le partage de connexion des données mobiles avec un autre appareil\, le bluetooth\, la 4G\, la 5G apprenez à maîtriser toutes les facettes de votre connectivité.\n\nSylvain vous guidera pour optimiser votre expérience et tirer le meilleur parti de votre appareil. \n\n \n\nCliquez sur le lien suivant pour plus d'informations ou vous connecter à la conférence : http://www.happyvisio.com/conference/7400-Smartphone-et-connexions-wifi-donnees-bluetooth
END:VEVENT
END:VCALENDAR
