BEGIN:VCALENDAR
VERSION:2.0
BEGIN:VEVENT
TZID:Europe/Paris
STATUS:CONFIRMED
DTSTART:20251016T190000
DTEND:20251016T200000
SUMMARY:Grippe : se vacciner, savoir se protéger
DESCRIPTION:<p><b>Titre de la conférence</b> : Grippe : se vacciner, savoir se protéger </p>
 <p><b>Date et heure de la conférence</b> : 16/10/2025 19h00</p>
 <p><b>Durée de la conférence </b>: 60 minutes</p>
 <b>Description</b> : <p>Chaque hiver\, 2 &agrave\; 6 millions de personnes sont touch&eacute\;es par le virus de la grippe. L&#39\;ensemble des r&eacute\;gions fran&ccedil\;aises est concern&eacute\;. Elle d&eacute\;marre g&eacute\;n&eacute\;ralement fin d&eacute\;cembre\, et dure en moyenne une dizaine de semaines. Alors ne laissez pas la grippe vous ralentir cet hiver !&nbsp\;<br />\nRejoignez notre webinaire et d&eacute\;couvrez pourquoi et comment la vaccination antigrippale peut vous aider &agrave\; prot&eacute\;ger votre sant&eacute\; et celle de vos proches.</p>\n\n<p>&nbsp\;</p>\n\n<p><span style=\"color:#2ecc71\">Pour rappel l&#39\;IRCEM Pr&eacute\;voyance finance votre 1er bilan nutritionnel d&#39\;une valeur de 70 euros \, 5 euros seulement restent &agrave\; votre charge.</span></p>\n<p><a href="http://www.happyvisio.com/conference/7365-Grippe-se-vacciner-savoir-se-proteger">Cliquez-ici pour obtenir plus d’informations ou vous connecter à la conférence</a></p>
X-ALT-DESC;FMTTYPE=text/html:<p><b>Titre de la conférence</b> : Grippe : se vacciner, savoir se protéger </p>
 <p><b>Date et heure de la conférence</b> : 16/10/2025 19h00</p>
 <p><b>Durée de la conférence </b>: 60 minutes</p>
 <b>Description</b> : <p>Chaque hiver\, 2 &agrave\; 6 millions de personnes sont touch&eacute\;es par le virus de la grippe. L&#39\;ensemble des r&eacute\;gions fran&ccedil\;aises est concern&eacute\;. Elle d&eacute\;marre g&eacute\;n&eacute\;ralement fin d&eacute\;cembre\, et dure en moyenne une dizaine de semaines. Alors ne laissez pas la grippe vous ralentir cet hiver !&nbsp\;<br />\nRejoignez notre webinaire et d&eacute\;couvrez pourquoi et comment la vaccination antigrippale peut vous aider &agrave\; prot&eacute\;ger votre sant&eacute\; et celle de vos proches.</p>\n\n<p>&nbsp\;</p>\n\n<p><span style=\"color:#2ecc71\">Pour rappel l&#39\;IRCEM Pr&eacute\;voyance finance votre 1er bilan nutritionnel d&#39\;une valeur de 70 euros \, 5 euros seulement restent &agrave\; votre charge.</span></p>\n<p><a href="http://www.happyvisio.com/conference/7365-Grippe-se-vacciner-savoir-se-proteger">Cliquez-ici pour obtenir plus d’informations ou vous connecter à la conférence</a></p>
END:VEVENT
END:VCALENDAR
