BEGIN:VCALENDAR
VERSION:2.0
BEGIN:VEVENT
TZID:Europe/Paris
STATUS:CONFIRMED
DTSTART:20251009T190000
DTEND:20251009T200000
SUMMARY:Les légumineuses : petites graines, grand impact
DESCRIPTION:<p><b>Titre de la conférence</b> : Les légumineuses : petites graines, grand impact </p>
 <p><b>Date et heure de la conférence</b> : 09/10/2025 19h00</p>
 <p><b>Durée de la conférence </b>: 60 minutes</p>
 <b>Description</b> : <p>Ce webinaire explorera les multiples bienfaits des l&eacute\;gumineuses (lentilles\, pois chiches\, haricots secs\, f&egrave\;ves\, etc.) pour la sant&eacute\; humaine.</p>\n\n<p>Souvent sous-estim&eacute\;es dans l&#39\;alimentation moderne\, elles sont pourtant de v&eacute\;ritables atouts nutritionnels\, riches en prot&eacute\;ines v&eacute\;g&eacute\;tales\, en fibres\, en vitamines et min&eacute\;raux.</p>\n\n<p>Nous aborderons leur r&ocirc\;le dans la pr&eacute\;vention de diverses maladies (cardiovasculaires\, diab&egrave\;te\, certains cancers)\, leur impact sur la gestion du poids et la sati&eacute\;t&eacute\;\, ainsi que des astuces pour les int&eacute\;grer plus facilement et savoureusement dans notre quotidien.</p>\n\n<p>&nbsp\;</p>\n\n<p><span style=\"color:#2ecc71\">Pour rappel l&#39\;IRCEM Pr&eacute\;voyance finance votre 1er bilan nutritionnel d&#39\;une valeur de 70 euros \, 5 euros seulement restent &agrave\; votre charge.</span></p>\n<p><a href="http://www.happyvisio.com/conference/7364-Les-legumineuses-petites-graines-grand-impact">Cliquez-ici pour obtenir plus d’informations ou vous connecter à la conférence</a></p>
X-ALT-DESC;FMTTYPE=text/html:<p><b>Titre de la conférence</b> : Les légumineuses : petites graines, grand impact </p>
 <p><b>Date et heure de la conférence</b> : 09/10/2025 19h00</p>
 <p><b>Durée de la conférence </b>: 60 minutes</p>
 <b>Description</b> : <p>Ce webinaire explorera les multiples bienfaits des l&eacute\;gumineuses (lentilles\, pois chiches\, haricots secs\, f&egrave\;ves\, etc.) pour la sant&eacute\; humaine.</p>\n\n<p>Souvent sous-estim&eacute\;es dans l&#39\;alimentation moderne\, elles sont pourtant de v&eacute\;ritables atouts nutritionnels\, riches en prot&eacute\;ines v&eacute\;g&eacute\;tales\, en fibres\, en vitamines et min&eacute\;raux.</p>\n\n<p>Nous aborderons leur r&ocirc\;le dans la pr&eacute\;vention de diverses maladies (cardiovasculaires\, diab&egrave\;te\, certains cancers)\, leur impact sur la gestion du poids et la sati&eacute\;t&eacute\;\, ainsi que des astuces pour les int&eacute\;grer plus facilement et savoureusement dans notre quotidien.</p>\n\n<p>&nbsp\;</p>\n\n<p><span style=\"color:#2ecc71\">Pour rappel l&#39\;IRCEM Pr&eacute\;voyance finance votre 1er bilan nutritionnel d&#39\;une valeur de 70 euros \, 5 euros seulement restent &agrave\; votre charge.</span></p>\n<p><a href="http://www.happyvisio.com/conference/7364-Les-legumineuses-petites-graines-grand-impact">Cliquez-ici pour obtenir plus d’informations ou vous connecter à la conférence</a></p>
END:VEVENT
END:VCALENDAR
