BEGIN:VCALENDAR
VERSION:2.0
BEGIN:VEVENT
TZID:Europe/Paris
STATUS:CONFIRMED
DTSTART:20251017T090000
DTEND:20251017T100000
SUMMARY:Bien être et Pilates  : la bonne posture au quotidien
DESCRIPTION:TITRE DE LA CONFÉRENCE : Bien être et Pilates  : la bonne posture au quotidien\n\nDATE ET HEURE DE LA CONFÉRENCE : 17/10/2025 09h00\n\nDURÉE DE LA CONFÉRENCE : 60 minutes\n\nDESCRIPTION : Sentez la différence qu'une posture correcte peut faire sur votre bien-être général.\n\nPour cette séance vous aurez besoin d'une chaise ainsi que d'un tapis.\n\n \n\nPour rappel l'IRCEM Prévoyance finance votre 1er bilan nutritionnel d'une valeur de 70 euros \, 5 euros seulement restent à votre charge.\n\nCliquez sur le lien suivant pour plus d'informations ou vous connecter à la conférence : http://www.happyvisio.com/conference/7363-Bien-etre-et-Pilates-la-bonne-posture-au-quotidien
X-ALT-DESC;FMTTYPE=text/html:TITRE DE LA CONFÉRENCE : Bien être et Pilates  : la bonne posture au quotidien DATE ET HEURE DE LA CONFÉRENCE : 17/10/2025 09h00 DURÉE DE LA CONFÉRENCE : 60 minutes DESCRIPTION : Sentez la différence qu'une posture correcte peut faire sur votre bien-être général.\n\nPour cette séance vous aurez besoin d'une chaise ainsi que d'un tapis.\n\n \n\nPour rappel l'IRCEM Prévoyance finance votre 1er bilan nutritionnel d'une valeur de 70 euros \, 5 euros seulement restent à votre charge.\n\nCliquez sur le lien suivant pour plus d'informations ou vous connecter à la conférence : http://www.happyvisio.com/conference/7363-Bien-etre-et-Pilates-la-bonne-posture-au-quotidien
END:VEVENT
END:VCALENDAR
