BEGIN:VCALENDAR
VERSION:2.0
BEGIN:VEVENT
TZID:Europe/Paris
STATUS:CONFIRMED
DTSTART:20251010T090000
DTEND:20251010T100000
SUMMARY:Atténuer ses maux de dos avec la méthode Pilates
DESCRIPTION:<p><b>Titre de la conférence</b> : Atténuer ses maux de dos avec la méthode Pilates </p>
 <p><b>Date et heure de la conférence</b> : 10/10/2025 09h00</p>
 <p><b>Durée de la conférence </b>: 60 minutes</p>
 <b>Description</b> : <p>Votre dos vous fait souffrir ? Ne subissez plus ! Apprenez les secrets du Pilates pour un soulagement durable.</p>\n\n<p>&nbsp\;</p>\n\n<p><span style=\"color:#2ecc71\">Pour rappel l&#39\;IRCEM Pr&eacute\;voyance finance votre 1er bilan nutritionnel d&#39\;une valeur de 70 euros \, 5 euros seulement restent &agrave\; votre charge.</span></p>\n<p><a href="http://www.happyvisio.com/conference/7362-Attenuer-ses-maux-de-dos-avec-la-methode-Pilates">Cliquez-ici pour obtenir plus d’informations ou vous connecter à la conférence</a></p>
X-ALT-DESC;FMTTYPE=text/html:<p><b>Titre de la conférence</b> : Atténuer ses maux de dos avec la méthode Pilates </p>
 <p><b>Date et heure de la conférence</b> : 10/10/2025 09h00</p>
 <p><b>Durée de la conférence </b>: 60 minutes</p>
 <b>Description</b> : <p>Votre dos vous fait souffrir ? Ne subissez plus ! Apprenez les secrets du Pilates pour un soulagement durable.</p>\n\n<p>&nbsp\;</p>\n\n<p><span style=\"color:#2ecc71\">Pour rappel l&#39\;IRCEM Pr&eacute\;voyance finance votre 1er bilan nutritionnel d&#39\;une valeur de 70 euros \, 5 euros seulement restent &agrave\; votre charge.</span></p>\n<p><a href="http://www.happyvisio.com/conference/7362-Attenuer-ses-maux-de-dos-avec-la-methode-Pilates">Cliquez-ici pour obtenir plus d’informations ou vous connecter à la conférence</a></p>
END:VEVENT
END:VCALENDAR
