BEGIN:VCALENDAR
VERSION:2.0
BEGIN:VEVENT
TZID:Europe/Paris
STATUS:CONFIRMED
DTSTART:20251006T123000
DTEND:20251006T133000
SUMMARY:Etre aidant salarié et prendre soin de soi
DESCRIPTION:<p><b>Titre de la conférence</b> : Etre aidant salarié et prendre soin de soi </p>
 <p><b>Date et heure de la conférence</b> : 06/10/2025 12h30</p>
 <p><b>Durée de la conférence </b>: 60 minutes</p>
 <b>Description</b> : <p>Prendre soin de soi est une condition sine qua non pour pouvoir continuer &agrave\; accompagner son proche efficacement et durablement.&nbsp\;</p>\n\n<p>Ce webinaire mettra en lumi&egrave\;re la n&eacute\;cessit&eacute\; de se m&eacute\;nager des temps de r&eacute\;pit\, des &quot\;micro-pauses&quot\; aux p&eacute\;riodes de repos plus longues\, en incluant la pr&eacute\;sentation des droits existants pour les salari&eacute\;s aidants\, notamment le droit au r&eacute\;pit et les cong&eacute\;s sp&eacute\;cifiques.&nbsp\;</p>\n<p><a href="http://www.happyvisio.com/conference/7355-Etre-aidant-salarie-et-prendre-soin-de-soi">Cliquez-ici pour obtenir plus d’informations ou vous connecter à la conférence</a></p>
X-ALT-DESC;FMTTYPE=text/html:<p><b>Titre de la conférence</b> : Etre aidant salarié et prendre soin de soi </p>
 <p><b>Date et heure de la conférence</b> : 06/10/2025 12h30</p>
 <p><b>Durée de la conférence </b>: 60 minutes</p>
 <b>Description</b> : <p>Prendre soin de soi est une condition sine qua non pour pouvoir continuer &agrave\; accompagner son proche efficacement et durablement.&nbsp\;</p>\n\n<p>Ce webinaire mettra en lumi&egrave\;re la n&eacute\;cessit&eacute\; de se m&eacute\;nager des temps de r&eacute\;pit\, des &quot\;micro-pauses&quot\; aux p&eacute\;riodes de repos plus longues\, en incluant la pr&eacute\;sentation des droits existants pour les salari&eacute\;s aidants\, notamment le droit au r&eacute\;pit et les cong&eacute\;s sp&eacute\;cifiques.&nbsp\;</p>\n<p><a href="http://www.happyvisio.com/conference/7355-Etre-aidant-salarie-et-prendre-soin-de-soi">Cliquez-ici pour obtenir plus d’informations ou vous connecter à la conférence</a></p>
END:VEVENT
END:VCALENDAR
