BEGIN:VCALENDAR
VERSION:2.0
BEGIN:VEVENT
TZID:Europe/Paris
STATUS:CONFIRMED
DTSTART:20251127T143000
DTEND:20251127T153000
SUMMARY:Trier et organiser les souvenirs de famille sans culpabilité
DESCRIPTION:TITRE DE LA CONFÉRENCE : Trier et organiser les souvenirs de famille sans culpabilité\n\nDATE ET HEURE DE LA CONFÉRENCE : 27/11/2025 14h30\n\nDURÉE DE LA CONFÉRENCE : 60 minutes\n\nDESCRIPTION : Les souvenirs de famille peuvent être précieux\, mais aussi envahissants.\n\nComment faire le tri sans remords et préserver ce qui compte vraiment ?\n\nRejoignez cette conférence pour apprendre à alléger vos espaces tout en valorisant vos souvenirs\, avec bienveillance et sérénité.\n\n \n\nCliquez sur le lien suivant pour plus d'informations ou vous connecter à la conférence : http://www.happyvisio.com/conference/7354-Trier-et-organiser-les-souvenirs-de-famille-sans-culpabilite
X-ALT-DESC;FMTTYPE=text/html:TITRE DE LA CONFÉRENCE : Trier et organiser les souvenirs de famille sans culpabilité DATE ET HEURE DE LA CONFÉRENCE : 27/11/2025 14h30 DURÉE DE LA CONFÉRENCE : 60 minutes DESCRIPTION : Les souvenirs de famille peuvent être précieux\, mais aussi envahissants.\n\nComment faire le tri sans remords et préserver ce qui compte vraiment ?\n\nRejoignez cette conférence pour apprendre à alléger vos espaces tout en valorisant vos souvenirs\, avec bienveillance et sérénité.\n\n \n\nCliquez sur le lien suivant pour plus d'informations ou vous connecter à la conférence : http://www.happyvisio.com/conference/7354-Trier-et-organiser-les-souvenirs-de-famille-sans-culpabilite
END:VEVENT
END:VCALENDAR
