BEGIN:VCALENDAR
VERSION:2.0
BEGIN:VEVENT
TZID:Europe/Paris
STATUS:CONFIRMED
DTSTART:20251203T143000
DTEND:20251203T153000
SUMMARY:Le cinéma en chansons
DESCRIPTION:<p><b>Titre de la conférence</b> : Le cinéma en chansons </p>
 <p><b>Date et heure de la conférence</b> : 03/12/2025 14h30</p>
 <p><b>Durée de la conférence </b>: 60 minutes</p>
 <b>Description</b> : <div class=\"v1default-style\">Qu&#39\;elles soient &eacute\;crites pour le 7&egrave\; art ou qu&#39\;elles soient pr&eacute\;existantes\, les chansons ont toujours &eacute\;t&eacute\; tr&egrave\;s souvent pr&eacute\;sentes dans des films non-musicaux.</div>\n\n<div class=\"v1default-style\">&nbsp\;</div>\n\n<div class=\"v1default-style\">C&#39\;est une s&eacute\;lection de ce r&eacute\;pertoire que nous allons aborder\, de chansons de James Bond jusqu&#39\;&agrave\; celle de Titanic ou The Bodyguard\, en passant par Jamais le dimanche ou encore L&#39\;homme qui en savait trop.</div>\n\n<div class=\"v1default-style\">&nbsp\;</div>\n\n<div class=\"v1default-style\">Une belle fa&ccedil\;on de r&eacute\;viser vos classiques et de faire des d&eacute\;couvertes en alliant musique et cin&eacute\;ma !&nbsp\;</div>\n<p><a href="http://www.happyvisio.com/conference/7352-Le-cinema-en-chansons">Cliquez-ici pour obtenir plus d’informations ou vous connecter à la conférence</a></p>
X-ALT-DESC;FMTTYPE=text/html:<p><b>Titre de la conférence</b> : Le cinéma en chansons </p>
 <p><b>Date et heure de la conférence</b> : 03/12/2025 14h30</p>
 <p><b>Durée de la conférence </b>: 60 minutes</p>
 <b>Description</b> : <div class=\"v1default-style\">Qu&#39\;elles soient &eacute\;crites pour le 7&egrave\; art ou qu&#39\;elles soient pr&eacute\;existantes\, les chansons ont toujours &eacute\;t&eacute\; tr&egrave\;s souvent pr&eacute\;sentes dans des films non-musicaux.</div>\n\n<div class=\"v1default-style\">&nbsp\;</div>\n\n<div class=\"v1default-style\">C&#39\;est une s&eacute\;lection de ce r&eacute\;pertoire que nous allons aborder\, de chansons de James Bond jusqu&#39\;&agrave\; celle de Titanic ou The Bodyguard\, en passant par Jamais le dimanche ou encore L&#39\;homme qui en savait trop.</div>\n\n<div class=\"v1default-style\">&nbsp\;</div>\n\n<div class=\"v1default-style\">Une belle fa&ccedil\;on de r&eacute\;viser vos classiques et de faire des d&eacute\;couvertes en alliant musique et cin&eacute\;ma !&nbsp\;</div>\n<p><a href="http://www.happyvisio.com/conference/7352-Le-cinema-en-chansons">Cliquez-ici pour obtenir plus d’informations ou vous connecter à la conférence</a></p>
END:VEVENT
END:VCALENDAR
