BEGIN:VCALENDAR
VERSION:2.0
BEGIN:VEVENT
TZID:Europe/Paris
STATUS:CONFIRMED
DTSTART:20251015T143000
DTEND:20251015T153000
SUMMARY:Les grands airs d'opéra
DESCRIPTION:<p><b>Titre de la conférence</b> : Les grands airs d'opéra </p>
 <p><b>Date et heure de la conférence</b> : 15/10/2025 14h30</p>
 <p><b>Durée de la conférence </b>: 60 minutes</p>
 <b>Description</b> : <p>Je vous invite &agrave\; d&eacute\;couvrir ou red&eacute\;couvrir certains des plus grands airs de ce genre lyrique qu&#39\;est l&#39\;op&eacute\;ra qui a plus de 400 ans d&#39\;existence !</p>\n\n<p>En alternances avec les nombreuses &eacute\;coutes\, cela sera l&#39\;occasion d&#39\;apprendre ou se rem&eacute\;morer les grands jalons\, les grands noms du genre.</p>\n<p><a href="http://www.happyvisio.com/conference/7351-Les-grands-airs-d-opera">Cliquez-ici pour obtenir plus d’informations ou vous connecter à la conférence</a></p>
X-ALT-DESC;FMTTYPE=text/html:<p><b>Titre de la conférence</b> : Les grands airs d'opéra </p>
 <p><b>Date et heure de la conférence</b> : 15/10/2025 14h30</p>
 <p><b>Durée de la conférence </b>: 60 minutes</p>
 <b>Description</b> : <p>Je vous invite &agrave\; d&eacute\;couvrir ou red&eacute\;couvrir certains des plus grands airs de ce genre lyrique qu&#39\;est l&#39\;op&eacute\;ra qui a plus de 400 ans d&#39\;existence !</p>\n\n<p>En alternances avec les nombreuses &eacute\;coutes\, cela sera l&#39\;occasion d&#39\;apprendre ou se rem&eacute\;morer les grands jalons\, les grands noms du genre.</p>\n<p><a href="http://www.happyvisio.com/conference/7351-Les-grands-airs-d-opera">Cliquez-ici pour obtenir plus d’informations ou vous connecter à la conférence</a></p>
END:VEVENT
END:VCALENDAR
