BEGIN:VCALENDAR
VERSION:2.0
BEGIN:VEVENT
TZID:Europe/Paris
STATUS:CONFIRMED
DTSTART:20251006T100000
DTEND:20251006T104500
SUMMARY:Happy Pilates - 6 octobre
DESCRIPTION:<p><b>Titre de la conférence</b> : Happy Pilates - 6 octobre </p>
 <p><b>Date et heure de la conférence</b> : 06/10/2025 10h00</p>
 <p><b>Durée de la conférence </b>: 45 minutes</p>
 <b>Description</b> : <p>Cette s&eacute\;ance d&#39\;une dur&eacute\;e de 45 minutes se d&eacute\;roulera <strong>principalement &agrave\; l&#39\;aide d&#39\;un tapis</strong>.</p>\n\n<p>Le pilates\, gym pilates ou encore la m&eacute\;thode pilates est une gymnastique douce qui vous permet de travailler l&rsquo\;ensemble de votre corps sans mouvements brusques. En effet\, en alliant une respiration profonde et des exercices physiques\, le pilates est tr&egrave\;s bon pour votre corps.</p>\n\n<p><span style=\"background-color:white\">Inspir&eacute\; du yoga\, de la gymnastique douce mais aussi de la danse\, le pilates se pratique debout\, sur chaise et aussi au sol &agrave\; l&#39\;aide d&#39\;un tapis</span></p>\n\n<p>Avec le pilates\, votre corps travaillera de mani&egrave\;re r&eacute\;guli&egrave\;re sans choc ou stress pour vos groupes musculaires. La gym pilates est l&rsquo\;une des meilleures m&eacute\;thodes pour vous renforcer musculairement tout en douceur !</p>\n\n<p>Le Pilates\, c&rsquo\;est parfait pour un retour en douceur &agrave\; une activit&eacute\; physique\, mais aussi pour am&eacute\;liorer votre condition physique &agrave\; long terme !</p>\n<p><a href="http://www.happyvisio.com/conference/7336-Happy-Pilates-6-octobre">Cliquez-ici pour obtenir plus d’informations ou vous connecter à la conférence</a></p>
X-ALT-DESC;FMTTYPE=text/html:<p><b>Titre de la conférence</b> : Happy Pilates - 6 octobre </p>
 <p><b>Date et heure de la conférence</b> : 06/10/2025 10h00</p>
 <p><b>Durée de la conférence </b>: 45 minutes</p>
 <b>Description</b> : <p>Cette s&eacute\;ance d&#39\;une dur&eacute\;e de 45 minutes se d&eacute\;roulera <strong>principalement &agrave\; l&#39\;aide d&#39\;un tapis</strong>.</p>\n\n<p>Le pilates\, gym pilates ou encore la m&eacute\;thode pilates est une gymnastique douce qui vous permet de travailler l&rsquo\;ensemble de votre corps sans mouvements brusques. En effet\, en alliant une respiration profonde et des exercices physiques\, le pilates est tr&egrave\;s bon pour votre corps.</p>\n\n<p><span style=\"background-color:white\">Inspir&eacute\; du yoga\, de la gymnastique douce mais aussi de la danse\, le pilates se pratique debout\, sur chaise et aussi au sol &agrave\; l&#39\;aide d&#39\;un tapis</span></p>\n\n<p>Avec le pilates\, votre corps travaillera de mani&egrave\;re r&eacute\;guli&egrave\;re sans choc ou stress pour vos groupes musculaires. La gym pilates est l&rsquo\;une des meilleures m&eacute\;thodes pour vous renforcer musculairement tout en douceur !</p>\n\n<p>Le Pilates\, c&rsquo\;est parfait pour un retour en douceur &agrave\; une activit&eacute\; physique\, mais aussi pour am&eacute\;liorer votre condition physique &agrave\; long terme !</p>\n<p><a href="http://www.happyvisio.com/conference/7336-Happy-Pilates-6-octobre">Cliquez-ici pour obtenir plus d’informations ou vous connecter à la conférence</a></p>
END:VEVENT
END:VCALENDAR
