BEGIN:VCALENDAR
VERSION:2.0
BEGIN:VEVENT
TZID:Europe/Paris
STATUS:CONFIRMED
DTSTART:20251008T143000
DTEND:20251008T153000
SUMMARY:Dictée
DESCRIPTION:TITRE DE LA CONFÉRENCE : Dictée\n\nDATE ET HEURE DE LA CONFÉRENCE : 08/10/2025 14h30\n\nDURÉE DE LA CONFÉRENCE : 60 minutes\n\nDESCRIPTION : Redoutée par beaucoup\, la dictée est en réalité une occasion idéale pour évaluer son niveau en orthographe\, quel que soit son âge. Elle permet d'apprendre à travers ses erreurs\, offrant ainsi une meilleure compréhension de la langue française et l'opportunité d'en découvrir toute la richesse.\n\nComplexe\, exigeante\, fascinante et en constante évolution\, la langue française continue de nous surprendre\, de nous défier et de nous envoûter.\n\nRejoignez-nous pour vous tester et apprendre ensemble !\n\nCliquez sur le lien suivant pour plus d'informations ou vous connecter à la conférence : http://www.happyvisio.com/conference/7335-dictee
X-ALT-DESC;FMTTYPE=text/html:TITRE DE LA CONFÉRENCE : Dictée DATE ET HEURE DE LA CONFÉRENCE : 08/10/2025 14h30 DURÉE DE LA CONFÉRENCE : 60 minutes DESCRIPTION : Redoutée par beaucoup\, la dictée est en réalité une occasion idéale pour évaluer son niveau en orthographe\, quel que soit son âge. Elle permet d'apprendre à travers ses erreurs\, offrant ainsi une meilleure compréhension de la langue française et l'opportunité d'en découvrir toute la richesse.\n\nComplexe\, exigeante\, fascinante et en constante évolution\, la langue française continue de nous surprendre\, de nous défier et de nous envoûter.\n\nRejoignez-nous pour vous tester et apprendre ensemble !\n\nCliquez sur le lien suivant pour plus d'informations ou vous connecter à la conférence : http://www.happyvisio.com/conference/7335-dictee
END:VEVENT
END:VCALENDAR
